FILENAME: O4511059.NWS.830019.tif
QUADRANGLE_NAME: GARDINER
QUADRANT: NW
WEST_LONGITUDE: -110 45 0.00000
EAST_LONGITUDE: -110 41 15.00000
NORTH_LATITUDE: 45 7 30.00000
SOUTH_LATITUDE: 45 3 45.00000
PRODUCTION_DATE: 1998 1 15
RASTER_ORDER: LEFT_RIGHT/TOP_BOTTOM
BAND_ORGANIZATION: SINGLE FILE
BAND_CONTENT: BLACK&WHITE
BAND_CONTENT: UNDEFINED
BAND_CONTENT: UNDEFINED
BITS_PER_PIXEL: 8
SAMPLES_AND_LINES: 5605 7570
HORIZONTAL_DATUM: NAD83
HORIZONTAL_COORDINATE_SYSTEM: UTM
COORDINATE_ZONE: 12
HORIZONTAL_UNITS: METERS
HORIZONTAL_RESOLUTION: 1.00000
SECONDARY_HORIZONTAL_DATUM: NAD27
XY_ORIGIN: 519299.00000 4997184.00000
SECONDARY_XY_ORIGIN: 519360.02400 4996973.96500
NATION: US
NATION: "SCIENCE
STATE: MT
NW_QUAD_CORNER_XY: 519660.93400 4996866.86500
NE_QUAD_CORNER_XY: 524576.16700 4996883.96300
SE_QUAD_CORNERY_XY: 524602.98900 4989940.89100
SW_QUAD_CORNER_XY: 519682.39100 4989923.79200
SECONDARY_NW_QUAD_XY: 519661.51600 4996649.56500
SECONDARY_NE_QUAD_XY: 524576.89500 4996666.66400
SECONDARY_SE_QUAD_XY: 524603.71600 4989723.64600
SECONDARY_SW_QUAD_XY: 519682.97300 4989706.54700
RMSE_XY: 1.80000
IMAGE_SOURCE: BLACK AND WHITE FILM
SOURCE_IMAGE_ID: NAPP 7826 155
SOURCE_IMAGE_DATE: 1994 08 25
SOURCE_IMAGE_ID: NAPP 7817 083
SOURCE_IMAGE_DATE: 1994 06 27
SOURCE_IMAGE_ID: NAPP 7817 082
SOURCE_IMAGE_DATE: 1994 06 27
SOURCE_IMAGE_ID: NAPP 7830 067
SOURCE_IMAGE_DATE: 1994 09 05
SOURCE_IMAGE_ID: NAPP 7830 069
SOURCE_IMAGE_DATE: 1994 09 05
SOURCE_DEM_DATE: 1997 01 01
AGENCY: WESTERN MAPPING CENTER (WMC)
PRODUCER: UNDEFINED
PRODUCTION_SYSTEM: GIS/MAGIC
COMPRESSION: UNDEFINED
STANDARD_VERSION: 1996 12
METADATA_DATE: 1998 01 21
DATA_FILE_SIZE: 42435455
BYTE_COUNT: 5605
