FILENAME: O4511058.SWS.830025.tif
QUADRANGLE_NAME: ELECTRIC PEAK
QUADRANT: SW
WEST_LONGITUDE: -110 52 30.00000
EAST_LONGITUDE: -110 48 45.00000
NORTH_LATITUDE: 45 3 45.00000
SOUTH_LATITUDE: 45 0 0.00000
PRODUCTION_DATE: 1997 12 4
RASTER_ORDER: LEFT_RIGHT/TOP_BOTTOM
BAND_ORGANIZATION: SINGLE FILE
BAND_CONTENT: BLACK&WHITE
BAND_CONTENT: UNDEFINED
BAND_CONTENT: UNDEFINED
BITS_PER_PIXEL: 8
SAMPLES_AND_LINES: 5600 7563
HORIZONTAL_DATUM: NAD83
HORIZONTAL_COORDINATE_SYSTEM: UTM
COORDINATE_ZONE: 12
HORIZONTAL_UNITS: METERS
HORIZONTAL_RESOLUTION: 1.00000
SECONDARY_HORIZONTAL_DATUM: NAD27
XY_ORIGIN: 509479.00000 4990211.00000
SECONDARY_XY_ORIGIN: 509540.09900 4990001.26500
NATION: US
NATION: "SCIENCE
STATE: MT
STATE: WY
NW_QUAD_CORNER_XY: 509841.19500 4989900.99500
NE_QUAD_CORNER_XY: 514761.79300 4989910.49400
SE_QUAD_CORNERY_XY: 514777.86800 4982967.49800
SW_QUAD_CORNER_XY: 509851.91200 4982957.99900
SECONDARY_NW_QUAD_XY: 509841.48600 4989683.74900
SECONDARY_NE_QUAD_XY: 514762.22900 4989693.24800
SECONDARY_SE_QUAD_XY: 514778.30400 4982750.30800
SECONDARY_SW_QUAD_XY: 509852.20300 4982740.80800
RMSE_XY: 1.50000
IMAGE_SOURCE: BLACK AND WHITE FILM
SOURCE_IMAGE_ID: NAPP 7826 081
SOURCE_IMAGE_DATE: 1994 08 25
SOURCE_IMAGE_ID: NAPP 7826 079
SOURCE_IMAGE_DATE: 1994 08 25
SOURCE_IMAGE_ID: NAPP 7826 080
SOURCE_IMAGE_DATE: 1994 08 25
SOURCE_IMAGE_ID: NAPP 7826 082
SOURCE_IMAGE_DATE: 1994 08 25
SOURCE_DEM_DATE: 1976 09 00
AGENCY: WESTERN MAPPING CENTER (WMC)
PRODUCER: UNDEFINED
PRODUCTION_SYSTEM: GIS/MAGIC
COMPRESSION: UNDEFINED
STANDARD_VERSION: 1996 12
METADATA_DATE: 1997 12 04
DATA_FILE_SIZE: 42358400
BYTE_COUNT: 5600
