FILENAME: O4511057.NES.830046.tif
QUADRANGLE_NAME: SPORTSMAN LAKE
QUADRANT: NE
WEST_LONGITUDE: -110 56 15.00000
EAST_LONGITUDE: -110 52 30.00000
NORTH_LATITUDE: 45 7 30.00000
SOUTH_LATITUDE: 45 3 45.00000
PRODUCTION_DATE: 1997 12 4
RASTER_ORDER: LEFT_RIGHT/TOP_BOTTOM
BAND_ORGANIZATION: SINGLE FILE
BAND_CONTENT: BLACK&WHITE
BAND_CONTENT: UNDEFINED
BAND_CONTENT: UNDEFINED
BITS_PER_PIXEL: 8
SAMPLES_AND_LINES: 5590 7560
HORIZONTAL_DATUM: NAD83
HORIZONTAL_COORDINATE_SYSTEM: UTM
COORDINATE_ZONE: 12
HORIZONTAL_UNITS: METERS
HORIZONTAL_RESOLUTION: 1.00000
SECONDARY_HORIZONTAL_DATUM: NAD27
XY_ORIGIN: 504553.00000 4997145.00000
SECONDARY_XY_ORIGIN: 504614.09200 4996935.25600
NATION: US
NATION: "SCIENCE
STATE: MT
NW_QUAD_CORNER_XY: 504915.23400 4996838.36800
NE_QUAD_CORNER_XY: 509830.46700 4996844.06700
SE_QUAD_CORNERY_XY: 509841.19500 4989900.99500
SW_QUAD_CORNER_XY: 504920.59800 4989895.29600
SECONDARY_NW_QUAD_XY: 504915.37900 4996621.06800
SECONDARY_NE_QUAD_XY: 509830.75800 4996626.76700
SECONDARY_SE_QUAD_XY: 509841.48600 4989683.74900
SECONDARY_SW_QUAD_XY: 504920.74300 4989678.05000
RMSE_XY: 1.70000
IMAGE_SOURCE: BLACK AND WHITE FILM
SOURCE_IMAGE_ID: NAPP 7830 071
SOURCE_IMAGE_DATE: 1994 09 05
SOURCE_IMAGE_ID: NAPP 7831 157
SOURCE_IMAGE_DATE: 1994 09 06
SOURCE_IMAGE_ID: NAPP 7830 072
SOURCE_IMAGE_DATE: 1994 09 05
SOURCE_IMAGE_ID: NAPP 7830 070
SOURCE_IMAGE_DATE: 1994 09 05
SOURCE_DEM_DATE: 1997 01 01
AGENCY: WESTERN MAPPING CENTER (WMC)
PRODUCER: UNDEFINED
PRODUCTION_SYSTEM: GIS/MAGIC
COMPRESSION: UNDEFINED
STANDARD_VERSION: 1996 12
METADATA_DATE: 1997 12 04
DATA_FILE_SIZE: 42265990
BYTE_COUNT: 5590
