FILENAME: O4511056.NES.831375.tif
QUADRANGLE_NAME: PINNACLE MOUNTAIN
QUADRANT: NE
WEST_LONGITUDE: -110 3 45.00000
EAST_LONGITUDE: -110 0 0.00000
NORTH_LATITUDE: 45 15 0.00000
SOUTH_LATITUDE: 45 11 15.00000
PRODUCTION_DATE: 1998 1 14
RASTER_ORDER: LEFT_RIGHT/TOP_BOTTOM
BAND_ORGANIZATION: SINGLE FILE
BAND_CONTENT: BLACK&WHITE
BAND_CONTENT: UNDEFINED
BAND_CONTENT: UNDEFINED
BITS_PER_PIXEL: 8
SAMPLES_AND_LINES: 5651 7613
HORIZONTAL_DATUM: NAD83
HORIZONTAL_COORDINATE_SYSTEM: UTM
COORDINATE_ZONE: 12
HORIZONTAL_UNITS: METERS
HORIZONTAL_RESOLUTION: 1.00000
SECONDARY_HORIZONTAL_DATUM: NAD27
XY_ORIGIN: 573208.00000 5011510.00000
SECONDARY_XY_ORIGIN: 573268.26700 5011300.05200
NATION: US
NATION: "SCIENCE
STATE: MT
NW_QUAD_CORNER_XY: 573567.29000 5011150.30100
NE_QUAD_CORNER_XY: 578471.77200 5011209.19800
SE_QUAD_CORNERY_XY: 578557.79600 5004265.97900
SW_QUAD_CORNER_XY: 573647.93600 5004207.08100
SECONDARY_NW_QUAD_XY: 573569.47300 5010932.90700
SECONDARY_NE_QUAD_XY: 578474.10100 5010991.80600
SECONDARY_SE_QUAD_XY: 578560.12400 5004048.64000
SECONDARY_SW_QUAD_XY: 573650.11900 5003989.74000
RMSE_XY: 4.10000
IMAGE_SOURCE: BLACK AND WHITE FILM
SOURCE_IMAGE_ID: NAPP 3857 161
SOURCE_IMAGE_DATE: 1991 08 30
SOURCE_DEM_DATE: 1997 01 01
AGENCY: WESTERN MAPPING CENTER (WMC)
PRODUCER: UNDEFINED
PRODUCTION_SYSTEM: GIS/MAGIC
COMPRESSION: UNDEFINED
STANDARD_VERSION: 1996 12
METADATA_DATE: 1998 01 15
DATA_FILE_SIZE: 43026714
BYTE_COUNT: 5651
