FILENAME: O4511055.SWS.831260.tif
QUADRANGLE_NAME: HAYSTACK PEAK
QUADRANT: SW
WEST_LONGITUDE: -110 15 0.00000
EAST_LONGITUDE: -110 11 15.00000
NORTH_LATITUDE: 45 11 15.00000
SOUTH_LATITUDE: 45 7 30.00000
PRODUCTION_DATE: 1998 1 14
RASTER_ORDER: LEFT_RIGHT/TOP_BOTTOM
BAND_ORGANIZATION: SINGLE FILE
BAND_CONTENT: BLACK&WHITE
BAND_CONTENT: UNDEFINED
BAND_CONTENT: UNDEFINED
BITS_PER_PIXEL: 8
SAMPLES_AND_LINES: 5642 7601
HORIZONTAL_DATUM: NAD83
HORIZONTAL_COORDINATE_SYSTEM: UTM
COORDINATE_ZONE: 12
HORIZONTAL_UNITS: METERS
HORIZONTAL_RESOLUTION: 1.00000
SECONDARY_HORIZONTAL_DATUM: NAD27
XY_ORIGIN: 558558.00000 5004401.00000
SECONDARY_XY_ORIGIN: 558618.41600 5004191.08700
NATION: US
NATION: "SCIENCE
STATE: MT
NW_QUAD_CORNER_XY: 558918.35400 5004053.19000
NE_QUAD_CORNER_XY: 563828.21500 5004100.68700
SE_QUAD_CORNERY_XY: 563898.03000 4997157.54100
SW_QUAD_CORNER_XY: 558982.79800 4997110.04300
SECONDARY_NW_QUAD_XY: 558920.10000 5003835.84400
SECONDARY_NE_QUAD_XY: 563830.10600 5003883.34200
SECONDARY_SE_QUAD_XY: 563899.92100 4996940.25000
SECONDARY_SW_QUAD_XY: 558984.54400 4996892.75100
RMSE_XY: 3.60000
IMAGE_SOURCE: BLACK AND WHITE FILM
SOURCE_IMAGE_ID: NAPP 3857 239
SOURCE_IMAGE_DATE: 1991 08 30
SOURCE_IMAGE_ID: NAPP 7833 021
SOURCE_IMAGE_DATE: 1994 09 22
SOURCE_IMAGE_ID: NAPP 3857 238
SOURCE_IMAGE_DATE: 1991 08 30
SOURCE_IMAGE_ID: NAPP 3857 210
SOURCE_IMAGE_DATE: 1991 08 30
SOURCE_DEM_DATE: 1997 01 01
AGENCY: WESTERN MAPPING CENTER (WMC)
PRODUCER: UNDEFINED
PRODUCTION_SYSTEM: GIS/MAGIC
COMPRESSION: UNDEFINED
STANDARD_VERSION: 1996 12
METADATA_DATE: 1998 01 15
DATA_FILE_SIZE: 42890484
BYTE_COUNT: 5642
