FILENAME: O4511053.SES.829954.tif
QUADRANGLE_NAME: MOUNT WALLACE
QUADRANT: SE
WEST_LONGITUDE: -110 26 15.00000
EAST_LONGITUDE: -110 22 30.00000
NORTH_LATITUDE: 45 11 15.00000
SOUTH_LATITUDE: 45 7 30.00000
PRODUCTION_DATE: 1997 12 4
RASTER_ORDER: LEFT_RIGHT/TOP_BOTTOM
BAND_ORGANIZATION: SINGLE FILE
BAND_CONTENT: BLACK&WHITE
BAND_CONTENT: UNDEFINED
BAND_CONTENT: UNDEFINED
BITS_PER_PIXEL: 8
SAMPLES_AND_LINES: 5626 7589
HORIZONTAL_DATUM: NAD83
HORIZONTAL_COORDINATE_SYSTEM: UTM
COORDINATE_ZONE: 12
HORIZONTAL_UNITS: METERS
HORIZONTAL_RESOLUTION: 1.00000
SECONDARY_HORIZONTAL_DATUM: NAD27
XY_ORIGIN: 543828.00000 5004270.00000
SECONDARY_XY_ORIGIN: 543888.60200 5004059.98500
NATION: US
NATION: "SCIENCE
STATE: MT
NW_QUAD_CORNER_XY: 544188.76800 5003933.50000
NE_QUAD_CORNER_XY: 549098.63000 5003969.59600
SE_QUAD_CORNERY_XY: 549152.33300 4997026.44900
SW_QUAD_CORNER_XY: 544237.10000 4996990.35200
SECONDARY_NW_QUAD_XY: 544190.07700 5003716.15000
SECONDARY_NE_QUAD_XY: 549100.08500 5003752.24800
SECONDARY_SE_QUAD_XY: 549153.78800 4996809.15500
SECONDARY_SW_QUAD_XY: 544238.40900 4996773.05600
RMSE_XY: 2.60000
IMAGE_SOURCE: BLACK AND WHITE FILM
SOURCE_IMAGE_ID: NAPP 3858 013
SOURCE_IMAGE_DATE: 1991 08 30
SOURCE_IMAGE_ID: NAPP 7829 217
SOURCE_IMAGE_DATE: 1994 09 05
SOURCE_IMAGE_ID: NAPP 3858 014
SOURCE_IMAGE_DATE: 1991 08 30
SOURCE_IMAGE_ID: NAPP 3857 289
SOURCE_IMAGE_DATE: 1991 08 30
SOURCE_DEM_DATE: 1997 01 01
AGENCY: WESTERN MAPPING CENTER (WMC)
PRODUCER: UNDEFINED
PRODUCTION_SYSTEM: GIS/MAGIC
COMPRESSION: UNDEFINED
STANDARD_VERSION: 1996 12
METADATA_DATE: 1998 01 21
DATA_FILE_SIZE: 42701340
BYTE_COUNT: 5626
