FILENAME: O4511052.NWS.829987.tif
QUADRANGLE_NAME: MINERAL MOUNTAIN
QUADRANT: NW
WEST_LONGITUDE: -110 37 30.00000
EAST_LONGITUDE: -110 33 45.00000
NORTH_LATITUDE: 45 15 0.00000
SOUTH_LATITUDE: 45 11 15.00000
PRODUCTION_DATE: 1998 1 21
RASTER_ORDER: LEFT_RIGHT/TOP_BOTTOM
BAND_ORGANIZATION: SINGLE FILE
BAND_CONTENT: BLACK&WHITE
BAND_CONTENT: UNDEFINED
BAND_CONTENT: UNDEFINED
BITS_PER_PIXEL: 8
SAMPLES_AND_LINES: 5605 7578
HORIZONTAL_DATUM: NAD83
HORIZONTAL_COORDINATE_SYSTEM: UTM
COORDINATE_ZONE: 12
HORIZONTAL_UNITS: METERS
HORIZONTAL_RESOLUTION: 1.00000
SECONDARY_HORIZONTAL_DATUM: NAD27
XY_ORIGIN: 529066.00000 5011116.00000
SECONDARY_XY_ORIGIN: 529126.78500 5010905.81000
NATION: US
NATION: "SCIENCE
STATE: MT
NW_QUAD_CORNER_XY: 529426.92400 5010791.23200
NE_QUAD_CORNER_XY: 534331.41000 5010815.92900
SE_QUAD_CORNERY_XY: 534369.04300 5003872.70600
SW_QUAD_CORNER_XY: 529459.18000 5003848.00800
SECONDARY_NW_QUAD_XY: 529427.79700 5010573.82800
SECONDARY_NE_QUAD_XY: 534332.42900 5010598.52600
SECONDARY_SE_QUAD_XY: 534370.06100 5003655.35500
SECONDARY_SW_QUAD_XY: 529460.05300 5003630.65700
RMSE_XY: 1.50000
IMAGE_SOURCE: BLACK AND WHITE FILM
SOURCE_IMAGE_ID: NAPP 3858 076
SOURCE_IMAGE_DATE: 1991 08 30
SOURCE_IMAGE_ID: NAPP 3859 175
SOURCE_IMAGE_DATE: 1991 09 03
SOURCE_IMAGE_ID: NAPP 3858 075
SOURCE_IMAGE_DATE: 1991 08 30
SOURCE_IMAGE_ID: NAPP 3858 077
SOURCE_IMAGE_DATE: 1991 08 30
SOURCE_IMAGE_ID: NAPP 3860 018
SOURCE_IMAGE_DATE: 1991 09 03
SOURCE_DEM_DATE: 1997 01 01
AGENCY: WESTERN MAPPING CENTER (WMC)
PRODUCER: UNDEFINED
PRODUCTION_SYSTEM: GIS/MAGIC
COMPRESSION: UNDEFINED
STANDARD_VERSION: 1996 12
METADATA_DATE: 1998 01 21
DATA_FILE_SIZE: 42480295
BYTE_COUNT: 5605
