FILENAME: O4511051.SES.830012.tif
QUADRANGLE_NAME: MONITOR PEAK
QUADRANT: SE
WEST_LONGITUDE: -110 41 15.00000
EAST_LONGITUDE: -110 37 30.00000
NORTH_LATITUDE: 45 11 15.00000
SOUTH_LATITUDE: 45 7 30.00000
PRODUCTION_DATE: 1998 1 15
RASTER_ORDER: LEFT_RIGHT/TOP_BOTTOM
BAND_ORGANIZATION: SINGLE FILE
BAND_CONTENT: BLACK&WHITE
BAND_CONTENT: UNDEFINED
BAND_CONTENT: UNDEFINED
BITS_PER_PIXEL: 8
SAMPLES_AND_LINES: 5605 7575
HORIZONTAL_DATUM: NAD83
HORIZONTAL_COORDINATE_SYSTEM: UTM
COORDINATE_ZONE: 12
HORIZONTAL_UNITS: METERS
HORIZONTAL_RESOLUTION: 1.00000
SECONDARY_HORIZONTAL_DATUM: NAD27
XY_ORIGIN: 524188.00000 5004149.00000
SECONDARY_XY_ORIGIN: 524248.91600 5003938.87700
NATION: US
NATION: "SCIENCE
STATE: MT
NW_QUAD_CORNER_XY: 524549.31700 5003827.11100
NE_QUAD_CORNER_XY: 529459.18000 5003848.00800
SE_QUAD_CORNERY_XY: 529491.40100 4996904.86000
SW_QUAD_CORNER_XY: 524576.16700 4996883.96300
SECONDARY_NW_QUAD_XY: 524550.04400 5003609.75800
SECONDARY_NE_QUAD_XY: 529460.05300 5003630.65700
SECONDARY_SE_QUAD_XY: 529492.27400 4996687.56200
SECONDARY_SW_QUAD_XY: 524576.89500 4996666.66400
RMSE_XY: 1.80000
IMAGE_SOURCE: BLACK AND WHITE FILM
SOURCE_IMAGE_ID: NAPP 3859 177
SOURCE_IMAGE_DATE: 1991 09 03
SOURCE_IMAGE_ID: NAPP 3859 162
SOURCE_IMAGE_DATE: 1991 09 03
SOURCE_IMAGE_ID: NAPP 7826 155
SOURCE_IMAGE_DATE: 1994 08 25
SOURCE_IMAGE_ID: NAPP 3859 176
SOURCE_IMAGE_DATE: 1991 09 03
SOURCE_IMAGE_ID: NAPP 3858 074
SOURCE_IMAGE_DATE: 1991 08 30
SOURCE_DEM_DATE: 1997 01 01
AGENCY: WESTERN MAPPING CENTER (WMC)
PRODUCER: UNDEFINED
PRODUCTION_SYSTEM: GIS/MAGIC
COMPRESSION: UNDEFINED
STANDARD_VERSION: 1996 12
METADATA_DATE: 1998 01 21
DATA_FILE_SIZE: 42463480
BYTE_COUNT: 5605
