FILENAME: O4511050.SWS.830021.tif
QUADRANGLE_NAME: DOME MOUNTAIN
QUADRANT: SW
WEST_LONGITUDE: -110 52 30.00000
EAST_LONGITUDE: -110 48 45.00000
NORTH_LATITUDE: 45 11 15.00000
SOUTH_LATITUDE: 45 7 30.00000
PRODUCTION_DATE: 1997 12 4
RASTER_ORDER: LEFT_RIGHT/TOP_BOTTOM
BAND_ORGANIZATION: SINGLE FILE
BAND_CONTENT: BLACK&WHITE
BAND_CONTENT: UNDEFINED
BAND_CONTENT: UNDEFINED
BITS_PER_PIXEL: 8
SAMPLES_AND_LINES: 5590 7563
HORIZONTAL_DATUM: NAD83
HORIZONTAL_COORDINATE_SYSTEM: UTM
COORDINATE_ZONE: 12
HORIZONTAL_UNITS: METERS
HORIZONTAL_RESOLUTION: 1.00000
SECONDARY_HORIZONTAL_DATUM: NAD27
XY_ORIGIN: 509457.00000 5004097.00000
SECONDARY_XY_ORIGIN: 509518.04000 5003887.05500
NATION: US
NATION: "SCIENCE
STATE: MT
NW_QUAD_CORNER_XY: 509819.72700 5003787.21600
NE_QUAD_CORNER_XY: 514729.59000 5003796.71500
SE_QUAD_CORNERY_XY: 514745.70100 4996853.56600
SW_QUAD_CORNER_XY: 509830.46700 4996844.06700
SECONDARY_NW_QUAD_XY: 509820.01800 5003569.86200
SECONDARY_NE_QUAD_XY: 514730.02700 5003579.36100
SECONDARY_SE_QUAD_XY: 514746.13700 4996636.26600
SECONDARY_SW_QUAD_XY: 509830.75800 4996626.76700
RMSE_XY: 2.30000
IMAGE_SOURCE: BLACK AND WHITE FILM
SOURCE_IMAGE_ID: NAPP 3862 043
SOURCE_IMAGE_DATE: 1991 09 24
SOURCE_IMAGE_ID: NAPP 7826 084
SOURCE_IMAGE_DATE: 1994 08 25
SOURCE_DEM_DATE: 1997 01 01
AGENCY: WESTERN MAPPING CENTER (WMC)
PRODUCER: UNDEFINED
PRODUCTION_SYSTEM: GIS/MAGIC
COMPRESSION: UNDEFINED
STANDARD_VERSION: 1996 12
METADATA_DATE: 1997 12 04
DATA_FILE_SIZE: 42282760
BYTE_COUNT: 5590
