FILENAME: O4511049.NWS.830035.tif
QUADRANGLE_NAME: MINER
QUADRANT: NW
WEST_LONGITUDE: -111 0 0.00000
EAST_LONGITUDE: -110 56 15.00000
NORTH_LATITUDE: 45 15 0.00000
SOUTH_LATITUDE: 45 11 15.00000
PRODUCTION_DATE: 1997 12 4
RASTER_ORDER: LEFT_RIGHT/TOP_BOTTOM
BAND_ORGANIZATION: SINGLE FILE
BAND_CONTENT: BLACK&WHITE
BAND_CONTENT: UNDEFINED
BAND_CONTENT: UNDEFINED
BITS_PER_PIXEL: 8
SAMPLES_AND_LINES: 5574 7555
HORIZONTAL_DATUM: NAD83
HORIZONTAL_COORDINATE_SYSTEM: UTM
COORDINATE_ZONE: 12
HORIZONTAL_UNITS: METERS
HORIZONTAL_RESOLUTION: 1.00000
SECONDARY_HORIZONTAL_DATUM: NAD27
XY_ORIGIN: 499637.00000 5011025.00000
SECONDARY_XY_ORIGIN: 499698.04400 5010815.15900
NATION: US
NATION: "SCIENCE
STATE: MT
NW_QUAD_CORNER_XY: 500000.00000 5010722.84200
NE_QUAD_CORNER_XY: 504904.48800 5010724.74100
SE_QUAD_CORNERY_XY: 504909.86300 5003781.51600
SW_QUAD_CORNER_XY: 500000.00000 5003779.61700
SECONDARY_NW_QUAD_XY: 500000.00000 5010505.43500
SECONDARY_NE_QUAD_XY: 504904.63300 5010507.33500
SECONDARY_SE_QUAD_XY: 504910.00900 5003564.16300
SECONDARY_SW_QUAD_XY: 500000.00000 5003562.26300
RMSE_XY: 1.40000
IMAGE_SOURCE: BLACK AND WHITE FILM
SOURCE_IMAGE_ID: NAPP 3859 114
SOURCE_IMAGE_DATE: 1991 09 03
SOURCE_DEM_DATE: 1997 01 01
AGENCY: WESTERN MAPPING CENTER (WMC)
PRODUCER: UNDEFINED
PRODUCTION_SYSTEM: GIS/MAGIC
COMPRESSION: UNDEFINED
STANDARD_VERSION: 1996 12
METADATA_DATE: 1997 12 04
DATA_FILE_SIZE: 42117144
BYTE_COUNT: 5574
