FILENAME: O4511046.SES.1118717.tif
QUADRANGLE_NAME: THE NEEDLES
QUADRANT: SE
WEST_LONGITUDE: -110 18 45.00000
EAST_LONGITUDE: -110 15 0.00000
NORTH_LATITUDE: 45 18 45.00000
SOUTH_LATITUDE: 45 15 0.00000
PRODUCTION_DATE: 2000 11 02
RASTER_ORDER: LEFT_RIGHT/TOP_BOTTOM
BAND_ORGANIZATION: SINGLE FILE
BAND_CONTENT: BLACK&WHITE
BAND_CONTENT: UNDEFINED
BAND_CONTENT: UNDEFINED
BITS_PER_PIXEL: 8
SAMPLES_AND_LINES: 5640 7620
HORIZONTAL_DATUM: NAD83
HORIZONTAL_COORDINATE_SYSTEM: UTM
COORDINATE_ZONE: 12
HORIZONTAL_UNITS: METERS
HORIZONTAL_RESOLUTION: 1.00000
SECONDARY_HORIZONTAL_DATUM: NAD27
XY_ORIGIN: 553530.00000 5018250.00000
SECONDARY_XY_ORIGIN: 553590.31800 5018039.97100
NATION: US
STATE: MT
NW_QUAD_CORNER_XY: 553890.15100 5017896.01200
NE_QUAD_CORNER_XY: 558789.25300 5017939.70700
SE_QUAD_CORNERY_XY: 558853.83800 5010996.41100
SW_QUAD_CORNER_XY: 553949.35400 5010952.71500
SECONDARY_NW_QUAD_XY: 553891.75200 5017678.56100
SECONDARY_NE_QUAD_XY: 558791.00000 5017722.25700
SECONDARY_SE_QUAD_XY: 558855.58500 5010779.01300
SECONDARY_SW_QUAD_XY: 553950.95500 5010735.31500
RMSE_XY: 2.42000
IMAGE_SOURCE: BLACK AND WHITE FILM
SOURCE_IMAGE_ID: NAPP 9185 128
SOURCE_IMAGE_DATE: 1998 07 20
SOURCE_DEM_DATE: 1976 00 00
AGENCY: WESTERN MAPPING CENTER (WMC)
PRODUCER: ANALYTICAL SURVEYS INC.
PRODUCTION_SYSTEM: ORBIT OR_RECTIFY V.5.2
COMPRESSION: UNDEFINED
STANDARD_VERSION: 1996 12
METADATA_DATE: 2000 11 21
DATA_FILE_SIZE: 42982440
BYTE_COUNT: 5640
