FILENAME: O4511045.NWS.1114238.tif
QUADRANGLE_NAME: THE PYRAMID
QUADRANT: NW
WEST_LONGITUDE: -110 30 0.00000
EAST_LONGITUDE: -110 26 15.00000
NORTH_LATITUDE: 45 22 30.00000
SOUTH_LATITUDE: 45 18 45.00000
PRODUCTION_DATE: 2000 10 20
RASTER_ORDER: LEFT_RIGHT/TOP_BOTTOM
BAND_ORGANIZATION: SINGLE FILE
BAND_CONTENT: BLACK&WHITE
BAND_CONTENT: UNDEFINED
BAND_CONTENT: UNDEFINED
BITS_PER_PIXEL: 8
SAMPLES_AND_LINES: 5640 7620
HORIZONTAL_DATUM: NAD83
HORIZONTAL_COORDINATE_SYSTEM: UTM
COORDINATE_ZONE: 12
HORIZONTAL_UNITS: METERS
HORIZONTAL_RESOLUTION: 1.00000
SECONDARY_HORIZONTAL_DATUM: NAD27
XY_ORIGIN: 538770.00000 5025090.00000
SECONDARY_XY_ORIGIN: 538830.46000 5024879.79900
NATION: US
STATE: MT
NW_QUAD_CORNER_XY: 539149.73800 5024731.10000
NE_QUAD_CORNER_XY: 544043.45400 5024763.39500
SE_QUAD_CORNERY_XY: 544091.94500 5017820.02100
SW_QUAD_CORNER_XY: 539192.84100 5017787.72500
SECONDARY_NW_QUAD_XY: 539150.90300 5024513.59500
SECONDARY_NE_QUAD_XY: 544044.76500 5024545.89100
SECONDARY_SE_QUAD_XY: 544093.25500 5017602.56800
SECONDARY_SW_QUAD_XY: 539194.00600 5017570.27100
RMSE_XY: 4.77000
IMAGE_SOURCE: BLACK AND WHITE FILM
SOURCE_IMAGE_ID: NAPP 11017 30
SOURCE_IMAGE_DATE: 1998 08 27
SOURCE_IMAGE_ID: NAPP 11017 62
SOURCE_IMAGE_DATE: 1998 08 27
SOURCE_IMAGE_ID: NAPP 11017 29
SOURCE_IMAGE_DATE: 1998 08 27
SOURCE_IMAGE_ID: NAPP 12010 19
SOURCE_IMAGE_DATE: 1999 08 18
SOURCE_IMAGE_ID: NAPP 11017 33
SOURCE_IMAGE_DATE: 1998 08 27
SOURCE_DEM_DATE: 1981 00 00
AGENCY: WESTERN MAPPING CENTER (WMC)
PRODUCER: ANALYTICAL SURVEYS INC.
PRODUCTION_SYSTEM: ORBIT OR_RECTIFY V.5.2
COMPRESSION: UNDEFINED
STANDARD_VERSION: 1996 12
METADATA_DATE: 2000 10 31
DATA_FILE_SIZE: 42982440
BYTE_COUNT: 5640
