FILENAME: O4511045.SWS.1114240.tif
QUADRANGLE_NAME: THE PYRAMID
QUADRANT: SW
WEST_LONGITUDE: -110 30 0.00000
EAST_LONGITUDE: -110 26 15.00000
NORTH_LATITUDE: 45 18 45.00000
SOUTH_LATITUDE: 45 15 0.00000
PRODUCTION_DATE: 2000 10 20
RASTER_ORDER: LEFT_RIGHT/TOP_BOTTOM
BAND_ORGANIZATION: SINGLE FILE
BAND_CONTENT: BLACK&WHITE
BAND_CONTENT: UNDEFINED
BAND_CONTENT: UNDEFINED
BITS_PER_PIXEL: 8
SAMPLES_AND_LINES: 5640 7620
HORIZONTAL_DATUM: NAD83
HORIZONTAL_COORDINATE_SYSTEM: UTM
COORDINATE_ZONE: 12
HORIZONTAL_UNITS: METERS
HORIZONTAL_RESOLUTION: 1.00000
SECONDARY_HORIZONTAL_DATUM: NAD27
XY_ORIGIN: 538830.00000 5018130.00000
SECONDARY_XY_ORIGIN: 538890.52600 5017919.83800
NATION: US
STATE: MT
NW_QUAD_CORNER_XY: 539192.84100 5017787.72500
NE_QUAD_CORNER_XY: 544091.94500 5017820.02100
SE_QUAD_CORNERY_XY: 544140.38300 5010876.72300
SW_QUAD_CORNER_XY: 539235.89700 5010844.42600
SECONDARY_NW_QUAD_XY: 539194.00600 5017570.27100
SECONDARY_NE_QUAD_XY: 544093.25500 5017602.56800
SECONDARY_SE_QUAD_XY: 544141.69300 5010659.32100
SECONDARY_SW_QUAD_XY: 539237.06100 5010627.02300
RMSE_XY: 3.70000
IMAGE_SOURCE: BLACK AND WHITE FILM
SOURCE_IMAGE_ID: NAPP 11017 33
SOURCE_IMAGE_DATE: 1998 08 27
SOURCE_IMAGE_ID: NAPP 11017 31
SOURCE_IMAGE_DATE: 1998 08 27
SOURCE_IMAGE_ID: NAPP 11017 60
SOURCE_IMAGE_DATE: 1998 08 27
SOURCE_DEM_DATE: 1981 00 00
AGENCY: WESTERN MAPPING CENTER (WMC)
PRODUCER: ANALYTICAL SURVEYS INC.
PRODUCTION_SYSTEM: ORBIT OR_RECTIFY V.5.2
COMPRESSION: UNDEFINED
STANDARD_VERSION: 1996 12
METADATA_DATE: 2000 10 31
DATA_FILE_SIZE: 42982440
BYTE_COUNT: 5640
