FILENAME: O4511038.NES.1118711.tif
QUADRANGLE_NAME: WEST BOULDER PLATEAU
QUADRANT: NE
WEST_LONGITUDE: -110 18 45.00000
EAST_LONGITUDE: -110 15 0.00000
NORTH_LATITUDE: 45 30 0.00000
SOUTH_LATITUDE: 45 26 15.00000
PRODUCTION_DATE: 2000 11 02
RASTER_ORDER: LEFT_RIGHT/TOP_BOTTOM
BAND_ORGANIZATION: SINGLE FILE
BAND_CONTENT: BLACK&WHITE
BAND_CONTENT: UNDEFINED
BAND_CONTENT: UNDEFINED
BITS_PER_PIXEL: 8
SAMPLES_AND_LINES: 5610 7650
HORIZONTAL_DATUM: NAD83
HORIZONTAL_COORDINATE_SYSTEM: UTM
COORDINATE_ZONE: 12
HORIZONTAL_UNITS: METERS
HORIZONTAL_RESOLUTION: 1.00000
SECONDARY_HORIZONTAL_DATUM: NAD27
XY_ORIGIN: 553350.00000 5039100.00000
SECONDARY_XY_ORIGIN: 553410.07500 5038889.88400
NATION: US
STATE: MT
NW_QUAD_CORNER_XY: 553712.15500 5038726.35500
NE_QUAD_CORNER_XY: 558595.07400 5038770.04600
SE_QUAD_CORNERY_XY: 558659.87000 5031826.52500
SW_QUAD_CORNER_XY: 553771.55100 5031782.83200
SECONDARY_NW_QUAD_XY: 553713.75800 5038508.75300
SECONDARY_NE_QUAD_XY: 558596.82200 5038552.44600
SECONDARY_SE_QUAD_XY: 558661.61900 5031608.97400
SECONDARY_SW_QUAD_XY: 553773.15400 5031565.28000
RMSE_XY: 3.36000
IMAGE_SOURCE: BLACK AND WHITE FILM
SOURCE_IMAGE_ID: NAPP 9185 134
SOURCE_IMAGE_DATE: 1998 07 20
SOURCE_IMAGE_ID: NAPP 9185 132
SOURCE_IMAGE_DATE: 1998 07 20
SOURCE_IMAGE_ID: NAPP 9185 259
SOURCE_IMAGE_DATE: 1998 07 20
SOURCE_DEM_DATE: 1993 00 00
AGENCY: WESTERN MAPPING CENTER (WMC)
PRODUCER: ANALYTICAL SURVEYS INC.
PRODUCTION_SYSTEM: ORBIT OR_RECTIFY V.5.2
COMPRESSION: UNDEFINED
STANDARD_VERSION: 1996 12
METADATA_DATE: 2000 11 21
DATA_FILE_SIZE: 42922110
BYTE_COUNT: 5610
