FILENAME: O4511037.SWS.1114217.tif
QUADRANGLE_NAME: MOUNT COWEN
QUADRANT: SW
WEST_LONGITUDE: -110 30 0.00000
EAST_LONGITUDE: -110 26 15.00000
NORTH_LATITUDE: 45 26 15.00000
SOUTH_LATITUDE: 45 22 30.00000
PRODUCTION_DATE: 2000 10 25
RASTER_ORDER: LEFT_RIGHT/TOP_BOTTOM
BAND_ORGANIZATION: SINGLE FILE
BAND_CONTENT: BLACK&WHITE
BAND_CONTENT: UNDEFINED
BAND_CONTENT: UNDEFINED
BITS_PER_PIXEL: 8
SAMPLES_AND_LINES: 5610 7620
HORIZONTAL_DATUM: NAD83
HORIZONTAL_COORDINATE_SYSTEM: UTM
COORDINATE_ZONE: 12
HORIZONTAL_UNITS: METERS
HORIZONTAL_RESOLUTION: 1.00000
SECONDARY_HORIZONTAL_DATUM: NAD27
XY_ORIGIN: 538740.00000 5032020.00000
SECONDARY_XY_ORIGIN: 538800.39400 5031809.76000
NATION: US
STATE: MT
NW_QUAD_CORNER_XY: 539106.58900 5031674.55000
NE_QUAD_CORNER_XY: 543994.91000 5031706.84500
SE_QUAD_CORNERY_XY: 544043.45400 5024763.39500
SW_QUAD_CORNER_XY: 539149.73800 5024731.10000
SECONDARY_NW_QUAD_XY: 539107.75400 5031456.99500
SECONDARY_NE_QUAD_XY: 543996.22100 5031489.29000
SECONDARY_SE_QUAD_XY: 544044.76500 5024545.89100
SECONDARY_SW_QUAD_XY: 539150.90300 5024513.59500
RMSE_XY: 4.29000
IMAGE_SOURCE: BLACK AND WHITE FILM
SOURCE_IMAGE_ID: NAPP 11017 29
SOURCE_IMAGE_DATE: 1998 08 27
SOURCE_IMAGE_ID: NAPP 11017 27
SOURCE_IMAGE_DATE: 1998 08 27
SOURCE_IMAGE_ID: NAPP 12009 38
SOURCE_IMAGE_DATE: 1999 08 17
SOURCE_IMAGE_ID: NAPP 11017 64
SOURCE_IMAGE_DATE: 1998 08 27
SOURCE_IMAGE_ID: NAPP 11017 31
SOURCE_IMAGE_DATE: 1998 08 27
SOURCE_DEM_DATE: 1993 00 00
AGENCY: WESTERN MAPPING CENTER (WMC)
PRODUCER: ANALYTICAL SURVEYS INC.
PRODUCTION_SYSTEM: ORBIT OR_RECTIFY V.5.2
COMPRESSION: UNDEFINED
STANDARD_VERSION: 1996 12
METADATA_DATE: 2000 11 13
DATA_FILE_SIZE: 42753810
BYTE_COUNT: 5610
