FILENAME: O4511036.SES.1114211.tif
QUADRANGLE_NAME: DEXTER POINT
QUADRANT: SE
WEST_LONGITUDE: -110 33 45.00000
EAST_LONGITUDE: -110 30 0.00000
NORTH_LATITUDE: 45 26 15.00000
SOUTH_LATITUDE: 45 22 30.00000
PRODUCTION_DATE: 2000 10 17
RASTER_ORDER: LEFT_RIGHT/TOP_BOTTOM
BAND_ORGANIZATION: SINGLE FILE
BAND_CONTENT: BLACK&WHITE
BAND_CONTENT: UNDEFINED
BAND_CONTENT: UNDEFINED
BITS_PER_PIXEL: 8
SAMPLES_AND_LINES: 5610 7620
HORIZONTAL_DATUM: NAD83
HORIZONTAL_COORDINATE_SYSTEM: UTM
COORDINATE_ZONE: 12
HORIZONTAL_UNITS: METERS
HORIZONTAL_RESOLUTION: 1.00000
SECONDARY_HORIZONTAL_DATUM: NAD27
XY_ORIGIN: 533850.00000 5031990.00000
SECONDARY_XY_ORIGIN: 533910.49300 5031779.76600
NATION: US
STATE: MT
NW_QUAD_CORNER_XY: 534218.26700 5031646.05600
NE_QUAD_CORNER_XY: 539106.58900 5031674.55000
SE_QUAD_CORNERY_XY: 539149.73800 5024731.10000
SW_QUAD_CORNER_XY: 534256.02200 5024702.60500
SECONDARY_NW_QUAD_XY: 534219.28600 5031428.49900
SECONDARY_NE_QUAD_XY: 539107.75400 5031456.99500
SECONDARY_SE_QUAD_XY: 539150.90300 5024513.59500
SECONDARY_SW_QUAD_XY: 534257.04200 5024485.09800
RMSE_XY: 2.13000
IMAGE_SOURCE: BLACK AND WHITE FILM
SOURCE_IMAGE_ID: NAPP 11017 64
SOURCE_IMAGE_DATE: 1998 08 27
SOURCE_IMAGE_ID: NAPP 11017 29
SOURCE_IMAGE_DATE: 1998 08 27
SOURCE_IMAGE_ID: NAPP 11017 66
SOURCE_IMAGE_DATE: 1998 08 27
SOURCE_IMAGE_ID: NAPP 11017 62
SOURCE_IMAGE_DATE: 1998 08 27
SOURCE_DEM_DATE: 1993 00 00
AGENCY: WESTERN MAPPING CENTER (WMC)
PRODUCER: ANALYTICAL SURVEYS INC.
PRODUCTION_SYSTEM: ORBIT OR_RECTIFY V.5.2
COMPRESSION: UNDEFINED
STANDARD_VERSION: 1996 12
METADATA_DATE: 2000 11 16
DATA_FILE_SIZE: 42753810
BYTE_COUNT: 5610
