FILENAME: O4511033.NWS.1004264.tif
QUADRANGLE_NAME: FRIDLEY PEAK
QUADRANT: NW
WEST_LONGITUDE: -111 0 0.00000
EAST_LONGITUDE: -110 56 15.00000
NORTH_LATITUDE: 45 30 0.00000
SOUTH_LATITUDE: 45 26 15.00000
PRODUCTION_DATE: 1999 5 10
RASTER_ORDER: LEFT_RIGHT/TOP_BOTTOM
BAND_ORGANIZATION: SINGLE FILE
BAND_CONTENT: BLACK&WHITE
BAND_CONTENT: UNDEFINED
BAND_CONTENT: UNDEFINED
BITS_PER_PIXEL: 8
SAMPLES_AND_LINES: 5554 7558
HORIZONTAL_DATUM: NAD83
HORIZONTAL_COORDINATE_SYSTEM: UTM
COORDINATE_ZONE: 12
HORIZONTAL_UNITS: METERS
HORIZONTAL_RESOLUTION: 1.00000
SECONDARY_HORIZONTAL_DATUM: NAD27
XY_ORIGIN: 499638.00000 5038799.00000
SECONDARY_XY_ORIGIN: 499698.78100 5038589.07500
NATION: US
STATE: MT
NW_QUAD_CORNER_XY: 500000.00000 5038496.50500
NE_QUAD_CORNER_XY: 504882.92500 5038498.40400
SE_QUAD_CORNERY_XY: 504888.32400 5031554.87400
SW_QUAD_CORNER_XY: 500000.00000 5031552.97400
SECONDARY_NW_QUAD_XY: 500000.00000 5038278.89600
SECONDARY_NE_QUAD_XY: 504883.07100 5038280.79600
SECONDARY_SE_QUAD_XY: 504888.47000 5031337.31500
SECONDARY_SW_QUAD_XY: 500000.00000 5031335.41500
RMSE_XY: 3.40000
IMAGE_SOURCE: BLACK AND WHITE FILM
SOURCE_IMAGE_ID: NAPP 3859 105
SOURCE_IMAGE_DATE: 1991 3 9
SOURCE_IMAGE_ID: NAPP 3859 106
SOURCE_IMAGE_DATE: 1991 3 9
SOURCE_DEM_DATE: 1999 5 10
AGENCY: WESTERN MAPPING CENTER (WMC)
PRODUCER: WESTERN MAPPING CENTER (WMC)
PRODUCTION_SYSTEM: DV2.6.3 10/9OV2.4 5/95
COMPRESSION: UNDEFINED
STANDARD_VERSION: 1996 12
METADATA_DATE: 1999 5 11
DATA_FILE_SIZE: 41982686
BYTE_COUNT: 5554
