FILENAME: O4511031.NWS.1145714.tif
QUADRANGLE_NAME: MCLEOD BASIN
QUADRANT: NW
WEST_LONGITUDE: -110 15 0.00000
EAST_LONGITUDE: -110 11 15.00000
NORTH_LATITUDE: 45 37 30.00000
SOUTH_LATITUDE: 45 33 45.00000
PRODUCTION_DATE: 2001 03 26
RASTER_ORDER: LEFT_RIGHT/TOP_BOTTOM
BAND_ORGANIZATION: SINGLE FILE
BAND_CONTENT: BLACK&WHITE
BAND_CONTENT: UNDEFINED
BAND_CONTENT: UNDEFINED
BITS_PER_PIXEL: 8
SAMPLES_AND_LINES: 5640 7620
HORIZONTAL_DATUM: NAD83
HORIZONTAL_COORDINATE_SYSTEM: UTM
COORDINATE_ZONE: 12
HORIZONTAL_UNITS: METERS
HORIZONTAL_RESOLUTION: 1.00000
SECONDARY_HORIZONTAL_DATUM: NAD27
XY_ORIGIN: 558090.00000 5053020.00000
SECONDARY_XY_ORIGIN: 558150.03500 5052809.99000
NATION: US
STATE: MT
NW_QUAD_CORNER_XY: 558465.27000 5052657.31400
NE_QUAD_CORNER_XY: 563337.37000 5052704.80200
SE_QUAD_CORNERY_XY: 563407.71900 5045761.13200
SW_QUAD_CORNER_XY: 558530.20700 5045713.64300
SECONDARY_NW_QUAD_XY: 558467.01900 5052439.61800
SECONDARY_NE_QUAD_XY: 563339.26500 5052487.10700
SECONDARY_SE_QUAD_XY: 563409.61300 5045543.48500
SECONDARY_SW_QUAD_XY: 558531.95600 5045495.99400
RMSE_XY: 2.31000
IMAGE_SOURCE: BLACK AND WHITE FILM
SOURCE_IMAGE_ID: NAPP 9185 91
SOURCE_IMAGE_DATE: 1998 07 20
SOURCE_IMAGE_ID: NAPP 9185 93
SOURCE_IMAGE_DATE: 1998 07 20
SOURCE_DEM_DATE: 1993 00 00
AGENCY: WESTERN MAPPING CENTER (WMC)
PRODUCER: ANALYTICAL SURVEYS INC.
PRODUCTION_SYSTEM: ORBIT OR_RECTIFY V.5.2
COMPRESSION: UNDEFINED
STANDARD_VERSION: 1996 12
METADATA_DATE: 2001 03 27
DATA_FILE_SIZE: 42982440
BYTE_COUNT: 5640
