FILENAME: O4511028.NES.1114245.tif
QUADRANGLE_NAME: BRISBIN
QUADRANT: NE
WEST_LONGITUDE: -110 33 45.00000
EAST_LONGITUDE: -110 30 0.00000
NORTH_LATITUDE: 45 37 30.00000
SOUTH_LATITUDE: 45 33 45.00000
PRODUCTION_DATE: 2000 10 16
RASTER_ORDER: LEFT_RIGHT/TOP_BOTTOM
BAND_ORGANIZATION: SINGLE FILE
BAND_CONTENT: BLACK&WHITE
BAND_CONTENT: UNDEFINED
BAND_CONTENT: UNDEFINED
BITS_PER_PIXEL: 8
SAMPLES_AND_LINES: 5610 7590
HORIZONTAL_DATUM: NAD83
HORIZONTAL_COORDINATE_SYSTEM: UTM
COORDINATE_ZONE: 12
HORIZONTAL_UNITS: METERS
HORIZONTAL_RESOLUTION: 1.00000
SECONDARY_HORIZONTAL_DATUM: NAD27
XY_ORIGIN: 533730.00000 5052810.00000
SECONDARY_XY_ORIGIN: 533790.35900 5052599.77100
NATION: US
STATE: MT
NW_QUAD_CORNER_XY: 534104.75400 5052476.86500
NE_QUAD_CORNER_XY: 538976.85900 5052505.35600
SE_QUAD_CORNERY_XY: 539020.14900 5045561.67900
SW_QUAD_CORNER_XY: 534142.63200 5045533.18600
SECONDARY_NW_QUAD_XY: 534105.77400 5052259.16300
SECONDARY_NE_QUAD_XY: 538978.02500 5052287.65600
SECONDARY_SE_QUAD_XY: 539021.31500 5045344.02600
SECONDARY_SW_QUAD_XY: 534143.65300 5045315.53200
RMSE_XY: 2.54000
IMAGE_SOURCE: BLACK AND WHITE FILM
SOURCE_IMAGE_ID: NAPP 11017 70
SOURCE_IMAGE_DATE: 1998 08 27
SOURCE_IMAGE_ID: NAPP 9167 10
SOURCE_IMAGE_DATE: 1996 08 26
SOURCE_DEM_DATE: 1981 00 00
AGENCY: WESTERN MAPPING CENTER (WMC)
PRODUCER: ANALYTICAL SURVEYS INC.
PRODUCTION_SYSTEM: ORBIT OR_RECTIFY V.5.2
COMPRESSION: UNDEFINED
STANDARD_VERSION: 1996 12
METADATA_DATE: 2000 10 19
DATA_FILE_SIZE: 42585510
BYTE_COUNT: 5610
