FILENAME: O4511027.NES.1114241.tif
QUADRANGLE_NAME: CHIMNEY ROCK
QUADRANT: NE
WEST_LONGITUDE: -110 41 15.00000
EAST_LONGITUDE: -110 37 30.00000
NORTH_LATITUDE: 45 37 30.00000
SOUTH_LATITUDE: 45 33 45.00000
PRODUCTION_DATE: 2000 10 16
RASTER_ORDER: LEFT_RIGHT/TOP_BOTTOM
BAND_ORGANIZATION: SINGLE FILE
BAND_CONTENT: BLACK&WHITE
BAND_CONTENT: UNDEFINED
BAND_CONTENT: UNDEFINED
BITS_PER_PIXEL: 8
SAMPLES_AND_LINES: 5610 7620
HORIZONTAL_DATUM: NAD83
HORIZONTAL_COORDINATE_SYSTEM: UTM
COORDINATE_ZONE: 12
HORIZONTAL_UNITS: METERS
HORIZONTAL_RESOLUTION: 1.00000
SECONDARY_HORIZONTAL_DATUM: NAD27
XY_ORIGIN: 523980.00000 5052780.00000
SECONDARY_XY_ORIGIN: 524040.55200 5052569.83000
NATION: US
STATE: MT
NW_QUAD_CORNER_XY: 524360.54100 5052431.27900
NE_QUAD_CORNER_XY: 529232.64800 5052452.17200
SE_QUAD_CORNERY_XY: 529265.11500 5045508.49200
SW_QUAD_CORNER_XY: 524387.59700 5045487.59800
SECONDARY_NW_QUAD_XY: 524361.27000 5052213.57600
SECONDARY_NE_QUAD_XY: 529233.52200 5052234.47000
SECONDARY_SE_QUAD_XY: 529265.98900 5045290.83800
SECONDARY_SW_QUAD_XY: 524388.32500 5045269.94300
RMSE_XY: 3.12000
IMAGE_SOURCE: BLACK AND WHITE FILM
SOURCE_IMAGE_ID: NAPP 11006 44
SOURCE_IMAGE_DATE: 1998 07 21
SOURCE_IMAGE_ID: NAPP 11006 42
SOURCE_IMAGE_DATE: 1998 07 21
SOURCE_DEM_DATE: 1948 00 00
AGENCY: WESTERN MAPPING CENTER (WMC)
PRODUCER: ANALYTICAL SURVEYS INC.
PRODUCTION_SYSTEM: ORBIT OR_RECTIFY V.5.2
COMPRESSION: UNDEFINED
STANDARD_VERSION: 1996 12
METADATA_DATE: 2000 10 19
DATA_FILE_SIZE: 42753810
BYTE_COUNT: 5610
