FILENAME: O4511027.SWS.1114244.tif
QUADRANGLE_NAME: CHIMNEY ROCK
QUADRANT: SW
WEST_LONGITUDE: -110 45 0.00000
EAST_LONGITUDE: -110 41 15.00000
NORTH_LATITUDE: 45 33 45.00000
SOUTH_LATITUDE: 45 30 0.00000
PRODUCTION_DATE: 2000 10 16
RASTER_ORDER: LEFT_RIGHT/TOP_BOTTOM
BAND_ORGANIZATION: SINGLE FILE
BAND_CONTENT: BLACK&WHITE
BAND_CONTENT: UNDEFINED
BAND_CONTENT: UNDEFINED
BITS_PER_PIXEL: 8
SAMPLES_AND_LINES: 5610 7590
HORIZONTAL_DATUM: NAD83
HORIZONTAL_COORDINATE_SYSTEM: UTM
COORDINATE_ZONE: 12
HORIZONTAL_UNITS: METERS
HORIZONTAL_RESOLUTION: 1.00000
SECONDARY_HORIZONTAL_DATUM: NAD27
XY_ORIGIN: 519120.00000 5045790.00000
SECONDARY_XY_ORIGIN: 519180.68400 5045579.83500
NATION: US
STATE: MT
NW_QUAD_CORNER_XY: 519510.07800 5045470.50200
NE_QUAD_CORNER_XY: 524387.59700 5045487.59800
SE_QUAD_CORNERY_XY: 524414.62300 5038543.99300
SW_QUAD_CORNER_XY: 519531.69900 5038526.89700
SECONDARY_NW_QUAD_XY: 519510.66100 5045252.84700
SECONDARY_NE_QUAD_XY: 524388.32500 5045269.94300
SECONDARY_SE_QUAD_XY: 524415.35200 5038326.38600
SECONDARY_SW_QUAD_XY: 519532.28200 5038309.29000
RMSE_XY: 2.09000
IMAGE_SOURCE: BLACK AND WHITE FILM
SOURCE_IMAGE_ID: NAPP 11006 81
SOURCE_IMAGE_DATE: 1998 07 21
SOURCE_DEM_DATE: 1948 00 00
AGENCY: WESTERN MAPPING CENTER (WMC)
PRODUCER: ANALYTICAL SURVEYS INC.
PRODUCTION_SYSTEM: ORBIT OR_RECTIFY V.5.2
COMPRESSION: UNDEFINED
STANDARD_VERSION: 1996 12
METADATA_DATE: 2000 10 19
DATA_FILE_SIZE: 42585510
BYTE_COUNT: 5610
