FILENAME: O4511026.NWS.1004260.tif
QUADRANGLE_NAME: BALD KNOB
QUADRANT: NW
WEST_LONGITUDE: -110 52 30.00000
EAST_LONGITUDE: -110 48 45.00000
NORTH_LATITUDE: 45 37 30.00000
SOUTH_LATITUDE: 45 33 45.00000
PRODUCTION_DATE: 1999 5 11
RASTER_ORDER: LEFT_RIGHT/TOP_BOTTOM
BAND_ORGANIZATION: SINGLE FILE
BAND_CONTENT: BLACK&WHITE
BAND_CONTENT: UNDEFINED
BAND_CONTENT: UNDEFINED
BITS_PER_PIXEL: 8
SAMPLES_AND_LINES: 5552 7564
HORIZONTAL_DATUM: NAD83
HORIZONTAL_COORDINATE_SYSTEM: UTM
COORDINATE_ZONE: 12
HORIZONTAL_UNITS: METERS
HORIZONTAL_RESOLUTION: 1.00000
SECONDARY_HORIZONTAL_DATUM: NAD27
XY_ORIGIN: 509383.00000 5052702.00000
SECONDARY_XY_ORIGIN: 509443.67100 5052491.92400
NATION: US
STATE: MT
NW_QUAD_CORNER_XY: 509744.21700 5052391.39100
NE_QUAD_CORNER_XY: 514616.32500 5052400.88800
SE_QUAD_CORNERY_XY: 514632.55900 5045457.20600
SW_QUAD_CORNER_XY: 509755.03900 5045447.70900
SECONDARY_NW_QUAD_XY: 509744.50900 5052173.68700
SECONDARY_NE_QUAD_XY: 514616.76300 5052183.18500
SECONDARY_SE_QUAD_XY: 514632.99600 5045239.55000
SECONDARY_SW_QUAD_XY: 509755.33100 5045230.05300
RMSE_XY: 1.30000
IMAGE_SOURCE: BLACK AND WHITE FILM
SOURCE_IMAGE_ID: NAPP 11009 140
SOURCE_IMAGE_DATE: 1998 7 22
SOURCE_DEM_DATE: 1999 5 11
AGENCY: WESTERN MAPPING CENTER (WMC)
PRODUCER: WESTERN MAPPING CENTER (WMC)
PRODUCTION_SYSTEM: DV2.6.3 10/9OV2.4 5/95
COMPRESSION: UNDEFINED
STANDARD_VERSION: 1996 12
METADATA_DATE: 1999 5 13
DATA_FILE_SIZE: 42000880
BYTE_COUNT: 5552
