FILENAME: O4511023.NWS.1114202.tif
QUADRANGLE_NAME: SPRINGDALE
QUADRANT: NW
WEST_LONGITUDE: -110 15 0.00000
EAST_LONGITUDE: -110 11 15.00000
NORTH_LATITUDE: 45 45 0.00000
SOUTH_LATITUDE: 45 41 15.00000
PRODUCTION_DATE: 2000 11 10
RASTER_ORDER: LEFT_RIGHT/TOP_BOTTOM
BAND_ORGANIZATION: SINGLE FILE
BAND_CONTENT: BLACK&WHITE
BAND_CONTENT: UNDEFINED
BAND_CONTENT: UNDEFINED
BITS_PER_PIXEL: 8
SAMPLES_AND_LINES: 5610 7620
HORIZONTAL_DATUM: NAD83
HORIZONTAL_COORDINATE_SYSTEM: UTM
COORDINATE_ZONE: 12
HORIZONTAL_UNITS: METERS
HORIZONTAL_RESOLUTION: 1.00000
SECONDARY_HORIZONTAL_DATUM: NAD27
XY_ORIGIN: 557970.00000 5066910.00000
SECONDARY_XY_ORIGIN: 558030.07500 5066700.04600
NATION: US
STATE: MT
NW_QUAD_CORNER_XY: 558335.18600 5066544.88200
NE_QUAD_CORNER_XY: 563196.44400 5066592.36500
SE_QUAD_CORNERY_XY: 563266.94500 5059648.54600
SW_QUAD_CORNER_XY: 558400.26300 5059601.06000
SECONDARY_NW_QUAD_XY: 558336.93600 5066327.09300
SECONDARY_NE_QUAD_XY: 563198.34000 5066374.57800
SECONDARY_SE_QUAD_XY: 563268.84000 5059430.80500
SECONDARY_SW_QUAD_XY: 558402.01300 5059383.31800
RMSE_XY: 2.01000
IMAGE_SOURCE: BLACK AND WHITE FILM
SOURCE_IMAGE_ID: NAPP 9172 193
SOURCE_IMAGE_DATE: 1997 08 23
SOURCE_IMAGE_ID: NAPP 9172 195
SOURCE_IMAGE_DATE: 1997 08 23
SOURCE_DEM_DATE: 1981 00 00
AGENCY: WESTERN MAPPING CENTER (WMC)
PRODUCER: ANALYTICAL SURVEYS INC.
PRODUCTION_SYSTEM: ORBIT OR_RECTIFY V.5.2
COMPRESSION: UNDEFINED
STANDARD_VERSION: 1996 12
METADATA_DATE: 2000 11 10
DATA_FILE_SIZE: 42753810
BYTE_COUNT: 5610
