FILENAME: O4511017.NWS.1004274.tif
QUADRANGLE_NAME: KELLY CREEK
QUADRANT: NW
WEST_LONGITUDE: -111 0 0.00000
EAST_LONGITUDE: -110 56 15.00000
NORTH_LATITUDE: 45 45 0.00000
SOUTH_LATITUDE: 45 41 15.00000
PRODUCTION_DATE: 1999 5 11
RASTER_ORDER: LEFT_RIGHT/TOP_BOTTOM
BAND_ORGANIZATION: SINGLE FILE
BAND_CONTENT: BLACK&WHITE
BAND_CONTENT: UNDEFINED
BAND_CONTENT: UNDEFINED
BITS_PER_PIXEL: 8
SAMPLES_AND_LINES: 5528 7556
HORIZONTAL_DATUM: NAD83
HORIZONTAL_COORDINATE_SYSTEM: UTM
COORDINATE_ZONE: 12
HORIZONTAL_UNITS: METERS
HORIZONTAL_RESOLUTION: 1.00000
SECONDARY_HORIZONTAL_DATUM: NAD27
XY_ORIGIN: 499638.00000 5066574.00000
SECONDARY_XY_ORIGIN: 499698.62200 5066363.90100
NATION: US
STATE: MT
NW_QUAD_CORNER_XY: 500000.00000 5066271.38800
NE_QUAD_CORNER_XY: 504861.26900 5066273.28700
SE_QUAD_CORNERY_XY: 504866.69200 5059329.45200
SW_QUAD_CORNER_XY: 500000.00000 5059327.55300
SECONDARY_NW_QUAD_XY: 500000.00000 5066053.59100
SECONDARY_NE_QUAD_XY: 504861.41500 5066055.49100
SECONDARY_SE_QUAD_XY: 504866.83700 5059111.70100
SECONDARY_SW_QUAD_XY: 500000.00000 5059109.80200
RMSE_XY: 1.70000
IMAGE_SOURCE: BLACK AND WHITE FILM
SOURCE_IMAGE_ID: NAPP 11008 076
SOURCE_IMAGE_DATE: 1998 7 21
SOURCE_DEM_DATE: 1999 5 11
AGENCY: WESTERN MAPPING CENTER (WMC)
PRODUCER: WESTERN MAPPING CENTER (WMC)
PRODUCTION_SYSTEM: DV2.6.3 10/9OV2.4 5/95
COMPRESSION: UNDEFINED
STANDARD_VERSION: 1996 12
METADATA_DATE: 1999 5 13
DATA_FILE_SIZE: 41775096
BYTE_COUNT: 5528
