FILENAME: O4511017.SES.1004275.tif
QUADRANGLE_NAME: KELLY CREEK
QUADRANT: SE
WEST_LONGITUDE: -110 56 15.00000
EAST_LONGITUDE: -110 52 30.00000
NORTH_LATITUDE: 45 41 15.00000
SOUTH_LATITUDE: 45 37 30.00000
PRODUCTION_DATE: 1999 5 11
RASTER_ORDER: LEFT_RIGHT/TOP_BOTTOM
BAND_ORGANIZATION: SINGLE FILE
BAND_CONTENT: BLACK&WHITE
BAND_CONTENT: UNDEFINED
BAND_CONTENT: UNDEFINED
BITS_PER_PIXEL: 8
SAMPLES_AND_LINES: 5540 7560
HORIZONTAL_DATUM: NAD83
HORIZONTAL_COORDINATE_SYSTEM: UTM
COORDINATE_ZONE: 12
HORIZONTAL_UNITS: METERS
HORIZONTAL_RESOLUTION: 1.00000
SECONDARY_HORIZONTAL_DATUM: NAD27
XY_ORIGIN: 504505.00000 5059636.00000
SECONDARY_XY_ORIGIN: 504565.64700 5059425.92700
NATION: US
STATE: MT
NW_QUAD_CORNER_XY: 504866.69200 5059329.45200
NE_QUAD_CORNER_XY: 509733.38300 5059335.15000
SE_QUAD_CORNERY_XY: 509744.21700 5052391.39100
SW_QUAD_CORNER_XY: 504872.10900 5052385.69300
SECONDARY_NW_QUAD_XY: 504866.83700 5059111.70100
SECONDARY_NE_QUAD_XY: 509733.67500 5059117.39900
SECONDARY_SE_QUAD_XY: 509744.50900 5052173.68700
SECONDARY_SW_QUAD_XY: 504872.25400 5052167.98900
RMSE_XY: 1.30000
IMAGE_SOURCE: BLACK AND WHITE FILM
SOURCE_IMAGE_ID: NAPP 11008 026
SOURCE_IMAGE_DATE: 1998 7 21
SOURCE_DEM_DATE: 1999 5 11
AGENCY: WESTERN MAPPING CENTER (WMC)
PRODUCER: WESTERN MAPPING CENTER (WMC)
PRODUCTION_SYSTEM: DV2.6.3 10/9OV2.4 5/95
COMPRESSION: UNDEFINED
STANDARD_VERSION: 1996 12
METADATA_DATE: 1999 5 13
DATA_FILE_SIZE: 41887940
BYTE_COUNT: 5540
