FILENAME: O4511017.SWS.1004276.tif
QUADRANGLE_NAME: KELLY CREEK
QUADRANT: SW
WEST_LONGITUDE: -111 0 0.00000
EAST_LONGITUDE: -110 56 15.00000
NORTH_LATITUDE: 45 41 15.00000
SOUTH_LATITUDE: 45 37 30.00000
PRODUCTION_DATE: 1999 5 11
RASTER_ORDER: LEFT_RIGHT/TOP_BOTTOM
BAND_ORGANIZATION: SINGLE FILE
BAND_CONTENT: BLACK&WHITE
BAND_CONTENT: UNDEFINED
BAND_CONTENT: UNDEFINED
BITS_PER_PIXEL: 8
SAMPLES_AND_LINES: 5536 7556
HORIZONTAL_DATUM: NAD83
HORIZONTAL_COORDINATE_SYSTEM: UTM
COORDINATE_ZONE: 12
HORIZONTAL_UNITS: METERS
HORIZONTAL_RESOLUTION: 1.00000
SECONDARY_HORIZONTAL_DATUM: NAD27
XY_ORIGIN: 499638.00000 5059630.00000
SECONDARY_XY_ORIGIN: 499698.66200 5059419.94200
NATION: US
STATE: MT
NW_QUAD_CORNER_XY: 500000.00000 5059327.55300
NE_QUAD_CORNER_XY: 504866.69200 5059329.45200
SE_QUAD_CORNERY_XY: 504872.10900 5052385.69300
SW_QUAD_CORNER_XY: 500000.00000 5052383.79400
SECONDARY_NW_QUAD_XY: 500000.00000 5059109.80200
SECONDARY_NE_QUAD_XY: 504866.83700 5059111.70100
SECONDARY_SE_QUAD_XY: 504872.25400 5052167.98900
SECONDARY_SW_QUAD_XY: 500000.00000 5052166.09000
RMSE_XY: 3.00000
IMAGE_SOURCE: BLACK AND WHITE FILM
SOURCE_IMAGE_ID: NAPP 11008 074
SOURCE_IMAGE_DATE: 1998 7 21
SOURCE_DEM_DATE: 1999 5 11
AGENCY: WESTERN MAPPING CENTER (WMC)
PRODUCER: WESTERN MAPPING CENTER (WMC)
PRODUCTION_SYSTEM: DV2.6.3 10/9OV2.4 5/95
COMPRESSION: UNDEFINED
STANDARD_VERSION: 1996 12
METADATA_DATE: 1999 5 13
DATA_FILE_SIZE: 41835552
BYTE_COUNT: 5536
