FILENAME: O4511016.SWS.1115276.tif
QUADRANGLE_NAME: CARNEY
QUADRANT: SW
WEST_LONGITUDE: -110 7 30.00000
EAST_LONGITUDE: -110 3 45.00000
NORTH_LATITUDE: 45 48 45.00000
SOUTH_LATITUDE: 45 45 0.00000
PRODUCTION_DATE: 2000 11 16
RASTER_ORDER: LEFT_RIGHT/TOP_BOTTOM
BAND_ORGANIZATION: SINGLE FILE
BAND_CONTENT: BLACK&WHITE
BAND_CONTENT: UNDEFINED
BAND_CONTENT: UNDEFINED
BITS_PER_PIXEL: 8
SAMPLES_AND_LINES: 5640 7650
HORIZONTAL_DATUM: NAD83
HORIZONTAL_COORDINATE_SYSTEM: UTM
COORDINATE_ZONE: 12
HORIZONTAL_UNITS: METERS
HORIZONTAL_RESOLUTION: 1.00000
SECONDARY_HORIZONTAL_DATUM: NAD27
XY_ORIGIN: 567600.00000 5073960.00000
SECONDARY_XY_ORIGIN: 567660.00700 5073749.78100
NATION: US
STATE: MT
NW_QUAD_CORNER_XY: 567981.69400 5073587.53800
NE_QUAD_CORNER_XY: 572837.51800 5073642.61600
SE_QUAD_CORNERY_XY: 572918.95400 5066698.72900
SW_QUAD_CORNER_XY: 568057.70000 5066643.64700
SECONDARY_NW_QUAD_XY: 567983.73600 5073369.70700
SECONDARY_NE_QUAD_XY: 572839.70600 5073424.78800
SECONDARY_SE_QUAD_XY: 572921.14200 5066480.94500
SECONDARY_SW_QUAD_XY: 568059.74200 5066425.86200
RMSE_XY: 1.80000
IMAGE_SOURCE: BLACK AND WHITE FILM
SOURCE_IMAGE_ID: NAPP 9172 84
SOURCE_IMAGE_DATE: 1997 08 23
SOURCE_DEM_DATE: 1980 00 00
AGENCY: WESTERN MAPPING CENTER (WMC)
PRODUCER: ANALYTICAL SURVEYS INC.
PRODUCTION_SYSTEM: ORBIT OR_RECTIFY V.5.2
COMPRESSION: UNDEFINED
STANDARD_VERSION: 1996 12
METADATA_DATE: 2000 11 18
DATA_FILE_SIZE: 43151640
BYTE_COUNT: 5640
