FILENAME: O4511012.NES.1112045.tif
QUADRANGLE_NAME: CHADBORN
QUADRANT: NE
WEST_LONGITUDE: -110 33 45.00000
EAST_LONGITUDE: -110 30 0.00000
NORTH_LATITUDE: 45 52 30.00000
SOUTH_LATITUDE: 45 48 45.00000
PRODUCTION_DATE: 2000 10 29
RASTER_ORDER: LEFT_RIGHT/TOP_BOTTOM
BAND_ORGANIZATION: SINGLE FILE
BAND_CONTENT: BLACK&WHITE
BAND_CONTENT: UNDEFINED
BAND_CONTENT: UNDEFINED
BITS_PER_PIXEL: 8
SAMPLES_AND_LINES: 5580 7590
HORIZONTAL_DATUM: NAD83
HORIZONTAL_COORDINATE_SYSTEM: UTM
COORDINATE_ZONE: 12
HORIZONTAL_UNITS: METERS
HORIZONTAL_RESOLUTION: 1.00000
SECONDARY_HORIZONTAL_DATUM: NAD27
XY_ORIGIN: 533580.00000 5080590.00000
SECONDARY_XY_ORIGIN: 533640.08300 5080379.65800
NATION: US
STATE: MT
NW_QUAD_CORNER_XY: 533952.83200 5080252.33900
NE_QUAD_CORNER_XY: 538803.23300 5080280.82400
SE_QUAD_CORNERY_XY: 538846.70900 5073336.84400
SW_QUAD_CORNER_XY: 533990.87300 5073308.35600
SECONDARY_NW_QUAD_XY: 533953.85300 5080034.45600
SECONDARY_NE_QUAD_XY: 538804.40000 5080062.94200
SECONDARY_SE_QUAD_XY: 538847.87600 5073119.00600
SECONDARY_SW_QUAD_XY: 533991.89500 5073090.51800
RMSE_XY: 0.94000
IMAGE_SOURCE: BLACK AND WHITE FILM
SOURCE_IMAGE_ID: NAPP 9167 16
SOURCE_IMAGE_DATE: 1996 08 26
SOURCE_DEM_DATE: 1980 00 00
AGENCY: WESTERN MAPPING CENTER (WMC)
PRODUCER: ANALYTICAL SURVEYS INC.
PRODUCTION_SYSTEM: ORBIT OR_RECTIFY V.5.2
COMPRESSION: UNDEFINED
STANDARD_VERSION: 1996 12
METADATA_DATE: 2000 11 02
DATA_FILE_SIZE: 42357780
BYTE_COUNT: 5580
