FILENAME: O4511012.SES.1112048.tif
QUADRANGLE_NAME: CHADBORN
QUADRANT: SE
WEST_LONGITUDE: -110 33 45.00000
EAST_LONGITUDE: -110 30 0.00000
NORTH_LATITUDE: 45 48 45.00000
SOUTH_LATITUDE: 45 45 0.00000
PRODUCTION_DATE: 2000 10 29
RASTER_ORDER: LEFT_RIGHT/TOP_BOTTOM
BAND_ORGANIZATION: SINGLE FILE
BAND_CONTENT: BLACK&WHITE
BAND_CONTENT: UNDEFINED
BAND_CONTENT: UNDEFINED
BITS_PER_PIXEL: 8
SAMPLES_AND_LINES: 5610 7620
HORIZONTAL_DATUM: NAD83
HORIZONTAL_COORDINATE_SYSTEM: UTM
COORDINATE_ZONE: 12
HORIZONTAL_UNITS: METERS
HORIZONTAL_RESOLUTION: 1.00000
SECONDARY_HORIZONTAL_DATUM: NAD27
XY_ORIGIN: 533610.00000 5073660.00000
SECONDARY_XY_ORIGIN: 533670.18600 5073449.72400
NATION: US
STATE: MT
NW_QUAD_CORNER_XY: 533990.87300 5073308.35600
NE_QUAD_CORNER_XY: 538846.70900 5073336.84400
SE_QUAD_CORNERY_XY: 538890.13900 5066392.93900
SW_QUAD_CORNER_XY: 534028.87400 5066364.45000
SECONDARY_NW_QUAD_XY: 533991.89500 5073090.51800
SECONDARY_NE_QUAD_XY: 538847.87600 5073119.00600
SECONDARY_SE_QUAD_XY: 538891.30600 5066175.14600
SECONDARY_SW_QUAD_XY: 534029.89500 5066146.65600
RMSE_XY: 1.07000
IMAGE_SOURCE: BLACK AND WHITE FILM
SOURCE_IMAGE_ID: NAPP 9167 14
SOURCE_IMAGE_DATE: 1996 08 26
SOURCE_DEM_DATE: 1980 00 00
AGENCY: WESTERN MAPPING CENTER (WMC)
PRODUCER: ANALYTICAL SURVEYS INC.
PRODUCTION_SYSTEM: ORBIT OR_RECTIFY V.5.2
COMPRESSION: UNDEFINED
STANDARD_VERSION: 1996 12
METADATA_DATE: 2000 11 02
DATA_FILE_SIZE: 42753810
BYTE_COUNT: 5610
