FILENAME: O4511011.NES.1145685.tif
QUADRANGLE_NAME: GOBBLERS KNOB
QUADRANT: NE
WEST_LONGITUDE: -110 41 15.00000
EAST_LONGITUDE: -110 37 30.00000
NORTH_LATITUDE: 45 52 30.00000
SOUTH_LATITUDE: 45 48 45.00000
PRODUCTION_DATE: 2001 03 01
RASTER_ORDER: LEFT_RIGHT/TOP_BOTTOM
BAND_ORGANIZATION: SINGLE FILE
BAND_CONTENT: BLACK&WHITE
BAND_CONTENT: UNDEFINED
BAND_CONTENT: UNDEFINED
BITS_PER_PIXEL: 8
SAMPLES_AND_LINES: 5550 7590
HORIZONTAL_DATUM: NAD83
HORIZONTAL_COORDINATE_SYSTEM: UTM
COORDINATE_ZONE: 12
HORIZONTAL_UNITS: METERS
HORIZONTAL_RESOLUTION: 1.00000
SECONDARY_HORIZONTAL_DATUM: NAD27
XY_ORIGIN: 523890.00000 5080530.00000
SECONDARY_XY_ORIGIN: 523950.23600 5080319.76600
NATION: US
STATE: MT
NW_QUAD_CORNER_XY: 524252.02600 5080206.76200
NE_QUAD_CORNER_XY: 529102.42900 5080227.65100
SE_QUAD_CORNERY_XY: 529135.03600 5073283.66800
SW_QUAD_CORNER_XY: 524279.19800 5073262.77700
SECONDARY_NW_QUAD_XY: 524252.75600 5079988.87800
SECONDARY_NE_QUAD_XY: 529103.30500 5080009.76800
SECONDARY_SE_QUAD_XY: 529135.91200 5073065.82800
SECONDARY_SW_QUAD_XY: 524279.92800 5073044.93700
RMSE_XY: 1.02000
IMAGE_SOURCE: BLACK AND WHITE FILM
SOURCE_IMAGE_ID: NAPP 11006 52
SOURCE_IMAGE_DATE: 1998 07 21
SOURCE_DEM_DATE: 1948 00 00
AGENCY: WESTERN MAPPING CENTER (WMC)
PRODUCER: ANALYTICAL SURVEYS INC.
PRODUCTION_SYSTEM: ORBIT OR_RECTIFY V.5.2
COMPRESSION: UNDEFINED
STANDARD_VERSION: 1996 12
METADATA_DATE: 2001 03 07
DATA_FILE_SIZE: 42130050
BYTE_COUNT: 5550
