FILENAME: O4511008.NES.1115261.tif
QUADRANGLE_NAME: GROSFIELD RANCH
QUADRANT: NE
WEST_LONGITUDE: -110 3 45.00000
EAST_LONGITUDE: -110 0 0.00000
NORTH_LATITUDE: 46 0 0.00000
SOUTH_LATITUDE: 45 56 15.00000
PRODUCTION_DATE: 2000 11 14
RASTER_ORDER: LEFT_RIGHT/TOP_BOTTOM
BAND_ORGANIZATION: SINGLE FILE
BAND_CONTENT: BLACK&WHITE
BAND_CONTENT: UNDEFINED
BAND_CONTENT: UNDEFINED
BITS_PER_PIXEL: 8
SAMPLES_AND_LINES: 5610 7620
HORIZONTAL_DATUM: NAD83
HORIZONTAL_COORDINATE_SYSTEM: UTM
COORDINATE_ZONE: 12
HORIZONTAL_UNITS: METERS
HORIZONTAL_RESOLUTION: 1.00000
SECONDARY_HORIZONTAL_DATUM: NAD27
XY_ORIGIN: 572220.00000 5094840.00000
SECONDARY_XY_ORIGIN: 572279.86800 5094628.99300
NATION: US
STATE: MT
NW_QUAD_CORNER_XY: 572592.68600 5094474.72500
NE_QUAD_CORNER_XY: 577432.18300 5094533.59100
SE_QUAD_CORNERY_XY: 577519.32800 5087589.48500
SW_QUAD_CORNER_XY: 572674.38400 5087530.61400
SECONDARY_NW_QUAD_XY: 572594.87600 5094256.76600
SECONDARY_NE_QUAD_XY: 577434.51800 5094315.63400
SECONDARY_SE_QUAD_XY: 577521.66300 5087371.57000
SECONDARY_SW_QUAD_XY: 572676.57300 5087312.69800
RMSE_XY: 1.34000
IMAGE_SOURCE: BLACK AND WHITE FILM
SOURCE_IMAGE_ID: NAPP 9172 11
SOURCE_IMAGE_DATE: 1997 08 23
SOURCE_IMAGE_ID: NAPP 9172 78
SOURCE_IMAGE_DATE: 1997 08 23
SOURCE_IMAGE_ID: NAPP 9172 09
SOURCE_IMAGE_DATE: 1997 08 23
SOURCE_IMAGE_ID: NAPP 9154 145
SOURCE_IMAGE_DATE: 1997 08 28
SOURCE_IMAGE_ID: NAPP 9172 13
SOURCE_IMAGE_DATE: 1997 08 23
SOURCE_DEM_DATE: 1980 00 00
AGENCY: WESTERN MAPPING CENTER (WMC)
PRODUCER: ANALYTICAL SURVEYS INC.
PRODUCTION_SYSTEM: ORBIT OR_RECTIFY V.5.2
COMPRESSION: UNDEFINED
STANDARD_VERSION: 1996 12
METADATA_DATE: 2000 11 20
DATA_FILE_SIZE: 42753810
BYTE_COUNT: 5610
