FILENAME: O4511008.SES.1115263.tif
QUADRANGLE_NAME: GROSFIELD RANCH
QUADRANT: SE
WEST_LONGITUDE: -110 3 45.00000
EAST_LONGITUDE: -110 0 0.00000
NORTH_LATITUDE: 45 56 15.00000
SOUTH_LATITUDE: 45 52 30.00000
PRODUCTION_DATE: 2000 11 14
RASTER_ORDER: LEFT_RIGHT/TOP_BOTTOM
BAND_ORGANIZATION: SINGLE FILE
BAND_CONTENT: BLACK&WHITE
BAND_CONTENT: UNDEFINED
BAND_CONTENT: UNDEFINED
BITS_PER_PIXEL: 8
SAMPLES_AND_LINES: 5610 7650
HORIZONTAL_DATUM: NAD83
HORIZONTAL_COORDINATE_SYSTEM: UTM
COORDINATE_ZONE: 12
HORIZONTAL_UNITS: METERS
HORIZONTAL_RESOLUTION: 1.00000
SECONDARY_HORIZONTAL_DATUM: NAD27
XY_ORIGIN: 572310.00000 5087910.00000
SECONDARY_XY_ORIGIN: 572369.91100 5087699.24200
NATION: US
STATE: MT
NW_QUAD_CORNER_XY: 572674.38400 5087530.61400
NE_QUAD_CORNER_XY: 577519.32800 5087589.48500
SE_QUAD_CORNERY_XY: 577606.38000 5080645.45200
SW_QUAD_CORNER_XY: 572755.99400 5080586.57800
SECONDARY_NW_QUAD_XY: 572676.57300 5087312.69800
SECONDARY_NE_QUAD_XY: 577521.66300 5087371.57000
SECONDARY_SE_QUAD_XY: 577608.71500 5080427.58100
SECONDARY_SW_QUAD_XY: 572758.18300 5080368.70500
RMSE_XY: 1.75000
IMAGE_SOURCE: BLACK AND WHITE FILM
SOURCE_IMAGE_ID: NAPP 9172 9
SOURCE_IMAGE_DATE: 1997 08 23
SOURCE_DEM_DATE: 1980 00 00
AGENCY: WESTERN MAPPING CENTER (WMC)
PRODUCER: ANALYTICAL SURVEYS INC.
PRODUCTION_SYSTEM: ORBIT OR_RECTIFY V.5.2
COMPRESSION: UNDEFINED
STANDARD_VERSION: 1996 12
METADATA_DATE: 2000 11 16
DATA_FILE_SIZE: 42922110
BYTE_COUNT: 5610
