FILENAME: O4511007.NWS.1118728.tif
QUADRANGLE_NAME: RASPBERRY BUTTE
QUADRANT: NW
WEST_LONGITUDE: -110 15 0.00000
EAST_LONGITUDE: -110 11 15.00000
NORTH_LATITUDE: 46 0 0.00000
SOUTH_LATITUDE: 45 56 15.00000
PRODUCTION_DATE: 2000 11 05
RASTER_ORDER: LEFT_RIGHT/TOP_BOTTOM
BAND_ORGANIZATION: SINGLE FILE
BAND_CONTENT: BLACK&WHITE
BAND_CONTENT: UNDEFINED
BAND_CONTENT: UNDEFINED
BITS_PER_PIXEL: 8
SAMPLES_AND_LINES: 5610 7650
HORIZONTAL_DATUM: NAD83
HORIZONTAL_COORDINATE_SYSTEM: UTM
COORDINATE_ZONE: 12
HORIZONTAL_UNITS: METERS
HORIZONTAL_RESOLUTION: 1.00000
SECONDARY_HORIZONTAL_DATUM: NAD27
XY_ORIGIN: 557700.00000 5094690.00000
SECONDARY_XY_ORIGIN: 557759.89500 5094479.33600
NATION: US
STATE: MT
NW_QUAD_CORNER_XY: 558074.18000 5094320.91700
NE_QUAD_CORNER_XY: 562913.68500 5094368.38800
SE_QUAD_CORNERY_XY: 562984.48800 5087424.27000
SW_QUAD_CORNER_XY: 558139.53600 5087376.79600
SECONDARY_NW_QUAD_XY: 558075.93200 5094102.95400
SECONDARY_NE_QUAD_XY: 562915.58200 5094150.42600
SECONDARY_SE_QUAD_XY: 562986.38500 5087206.35100
SECONDARY_SW_QUAD_XY: 558141.28800 5087158.87500
RMSE_XY: 2.17000
IMAGE_SOURCE: BLACK AND WHITE FILM
SOURCE_IMAGE_ID: NAPP 9172 185
SOURCE_IMAGE_DATE: 1997 08 23
SOURCE_IMAGE_ID: NAPP 9172 109
SOURCE_IMAGE_DATE: 1997 08 23
SOURCE_DEM_DATE: 1993 00 00
AGENCY: WESTERN MAPPING CENTER (WMC)
PRODUCER: ANALYTICAL SURVEYS INC.
PRODUCTION_SYSTEM: ORBIT OR_RECTIFY V.5.2
COMPRESSION: UNDEFINED
STANDARD_VERSION: 1996 12
METADATA_DATE: 2000 11 21
DATA_FILE_SIZE: 42922110
BYTE_COUNT: 5610
