FILENAME: O4511007.SES.1118729.tif
QUADRANGLE_NAME: RASPBERRY BUTTE
QUADRANT: SE
WEST_LONGITUDE: -110 11 15.00000
EAST_LONGITUDE: -110 7 30.00000
NORTH_LATITUDE: 45 56 15.00000
SOUTH_LATITUDE: 45 52 30.00000
PRODUCTION_DATE: 2000 11 05
RASTER_ORDER: LEFT_RIGHT/TOP_BOTTOM
BAND_ORGANIZATION: SINGLE FILE
BAND_CONTENT: BLACK&WHITE
BAND_CONTENT: UNDEFINED
BAND_CONTENT: UNDEFINED
BITS_PER_PIXEL: 8
SAMPLES_AND_LINES: 5610 7620
HORIZONTAL_DATUM: NAD83
HORIZONTAL_COORDINATE_SYSTEM: UTM
COORDINATE_ZONE: 12
HORIZONTAL_UNITS: METERS
HORIZONTAL_RESOLUTION: 1.00000
SECONDARY_HORIZONTAL_DATUM: NAD27
XY_ORIGIN: 562620.00000 5087790.00000
SECONDARY_XY_ORIGIN: 562679.93000 5087579.42000
NATION: US
STATE: MT
NW_QUAD_CORNER_XY: 562984.48800 5087424.27000
NE_QUAD_CORNER_XY: 567829.43700 5087475.54300
SE_QUAD_CORNERY_XY: 567905.60600 5080531.50300
SW_QUAD_CORNER_XY: 563055.21500 5080480.22700
SECONDARY_NW_QUAD_XY: 562986.38500 5087206.35100
SECONDARY_NE_QUAD_XY: 567831.48000 5087257.62500
SECONDARY_SE_QUAD_XY: 567907.64900 5080313.62900
SECONDARY_SW_QUAD_XY: 563057.11200 5080262.35100
RMSE_XY: 3.19000
IMAGE_SOURCE: BLACK AND WHITE FILM
SOURCE_IMAGE_ID: NAPP 9172 107
SOURCE_IMAGE_DATE: 1997 08 23
SOURCE_IMAGE_ID: NAPP 9172 109
SOURCE_IMAGE_DATE: 1997 08 23
SOURCE_DEM_DATE: 1993 00 00
AGENCY: WESTERN MAPPING CENTER (WMC)
PRODUCER: ANALYTICAL SURVEYS INC.
PRODUCTION_SYSTEM: ORBIT OR_RECTIFY V.5.2
COMPRESSION: UNDEFINED
STANDARD_VERSION: 1996 12
METADATA_DATE: 2000 11 22
DATA_FILE_SIZE: 42753810
BYTE_COUNT: 5610
