FILENAME: O4511006.NES.1145701.tif
QUADRANGLE_NAME: FAIRVIEW PEAK
QUADRANT: NE
WEST_LONGITUDE: -110 18 45.00000
EAST_LONGITUDE: -110 15 0.00000
NORTH_LATITUDE: 46 0 0.00000
SOUTH_LATITUDE: 45 56 15.00000
PRODUCTION_DATE: 2001 03 19
RASTER_ORDER: LEFT_RIGHT/TOP_BOTTOM
BAND_ORGANIZATION: SINGLE FILE
BAND_CONTENT: BLACK&WHITE
BAND_CONTENT: UNDEFINED
BAND_CONTENT: UNDEFINED
BITS_PER_PIXEL: 8
SAMPLES_AND_LINES: 5580 7620
HORIZONTAL_DATUM: NAD83
HORIZONTAL_COORDINATE_SYSTEM: UTM
COORDINATE_ZONE: 12
HORIZONTAL_UNITS: METERS
HORIZONTAL_RESOLUTION: 1.00000
SECONDARY_HORIZONTAL_DATUM: NAD27
XY_ORIGIN: 552870.00000 5094630.00000
SECONDARY_XY_ORIGIN: 552929.87700 5094419.36100
NATION: US
STATE: MT
NW_QUAD_CORNER_XY: 553234.67300 5094277.24400
NE_QUAD_CORNER_XY: 558074.18000 5094320.91700
SE_QUAD_CORNERY_XY: 558139.53600 5087376.79600
SW_QUAD_CORNER_XY: 553294.58200 5087333.11900
SECONDARY_NW_QUAD_XY: 553236.27900 5094059.27900
SECONDARY_NE_QUAD_XY: 558075.93200 5094102.95400
SECONDARY_SE_QUAD_XY: 558141.28800 5087158.87500
SECONDARY_SW_QUAD_XY: 553296.18800 5087115.19700
RMSE_XY: 3.08000
IMAGE_SOURCE: BLACK AND WHITE FILM
SOURCE_IMAGE_ID: NAPP 9185 146
SOURCE_IMAGE_DATE: 1998 07 20
SOURCE_IMAGE_ID: NAPP 9185 148
SOURCE_IMAGE_DATE: 1998 07 20
SOURCE_IMAGE_ID: NAPP 9185 243
SOURCE_IMAGE_DATE: 1998 07 20
SOURCE_DEM_DATE: 1951 00 00
AGENCY: WESTERN MAPPING CENTER (WMC)
PRODUCER: ANALYTICAL SURVEYS INC.
PRODUCTION_SYSTEM: ORBIT OR_RECTIFY V.5.2
COMPRESSION: UNDEFINED
STANDARD_VERSION: 1996 12
METADATA_DATE: 2001 03 30
DATA_FILE_SIZE: 42525180
BYTE_COUNT: 5580
