FILENAME: O4511005.SES.1145699.tif
QUADRANGLE_NAME: IBEX MOUNTAIN
QUADRANT: SE
WEST_LONGITUDE: -110 26 15.00000
EAST_LONGITUDE: -110 22 30.00000
NORTH_LATITUDE: 45 56 15.00000
SOUTH_LATITUDE: 45 52 30.00000
PRODUCTION_DATE: 2001 03 19
RASTER_ORDER: LEFT_RIGHT/TOP_BOTTOM
BAND_ORGANIZATION: SINGLE FILE
BAND_CONTENT: BLACK&WHITE
BAND_CONTENT: UNDEFINED
BAND_CONTENT: UNDEFINED
BITS_PER_PIXEL: 8
SAMPLES_AND_LINES: 5580 7620
HORIZONTAL_DATUM: NAD83
HORIZONTAL_COORDINATE_SYSTEM: UTM
COORDINATE_ZONE: 12
HORIZONTAL_UNITS: METERS
HORIZONTAL_RESOLUTION: 1.00000
SECONDARY_HORIZONTAL_DATUM: NAD27
XY_ORIGIN: 543240.00000 5087610.00000
SECONDARY_XY_ORIGIN: 543299.91900 5087399.51800
NATION: US
STATE: MT
NW_QUAD_CORNER_XY: 543604.66900 5087257.16200
NE_QUAD_CORNER_XY: 548449.62700 5087293.24200
SE_QUAD_CORNERY_XY: 548504.03100 5080349.19000
SW_QUAD_CORNER_XY: 543653.63300 5080313.10800
SECONDARY_NW_QUAD_XY: 543605.98300 5087039.23800
SECONDARY_NE_QUAD_XY: 548451.08600 5087075.31800
SECONDARY_SE_QUAD_XY: 548505.49000 5080131.31000
SECONDARY_SW_QUAD_XY: 543654.94600 5080095.22700
RMSE_XY: 1.85000
IMAGE_SOURCE: BLACK AND WHITE FILM
SOURCE_IMAGE_ID: NAPP 12009 116
SOURCE_IMAGE_DATE: 1999 08 17
SOURCE_DEM_DATE: 1993 00 00
AGENCY: WESTERN MAPPING CENTER (WMC)
PRODUCER: ANALYTICAL SURVEYS INC.
PRODUCTION_SYSTEM: ORBIT OR_RECTIFY V.5.2
COMPRESSION: UNDEFINED
STANDARD_VERSION: 1996 12
METADATA_DATE: 2001 03 23
DATA_FILE_SIZE: 42525180
BYTE_COUNT: 5580
