FILENAME: O4511004.SES.1112030.tif
QUADRANGLE_NAME: CLYDE PARK
QUADRANT: SE
WEST_LONGITUDE: -110 33 45.00000
EAST_LONGITUDE: -110 30 0.00000
NORTH_LATITUDE: 45 56 15.00000
SOUTH_LATITUDE: 45 52 30.00000
PRODUCTION_DATE: 2000 10 10
RASTER_ORDER: LEFT_RIGHT/TOP_BOTTOM
BAND_ORGANIZATION: SINGLE FILE
BAND_CONTENT: BLACK&WHITE
BAND_CONTENT: UNDEFINED
BAND_CONTENT: UNDEFINED
BITS_PER_PIXEL: 8
SAMPLES_AND_LINES: 5580 7620
HORIZONTAL_DATUM: NAD83
HORIZONTAL_COORDINATE_SYSTEM: UTM
COORDINATE_ZONE: 12
HORIZONTAL_UNITS: METERS
HORIZONTAL_RESOLUTION: 1.00000
SECONDARY_HORIZONTAL_DATUM: NAD27
XY_ORIGIN: 533550.00000 5087550.00000
SECONDARY_XY_ORIGIN: 533609.98100 5087339.59300
NATION: US
STATE: MT
NW_QUAD_CORNER_XY: 533914.74900 5087196.39700
NE_QUAD_CORNER_XY: 538759.71000 5087224.88000
SE_QUAD_CORNERY_XY: 538803.23300 5080280.82400
SW_QUAD_CORNER_XY: 533952.83200 5080252.33900
SECONDARY_NW_QUAD_XY: 533915.77100 5086978.47100
SECONDARY_NE_QUAD_XY: 538760.87800 5087006.95500
SECONDARY_SE_QUAD_XY: 538804.40000 5080062.94200
SECONDARY_SW_QUAD_XY: 533953.85300 5080034.45600
RMSE_XY: 1.38000
IMAGE_SOURCE: BLACK AND WHITE FILM
SOURCE_IMAGE_ID: NAPP 9167 18
SOURCE_IMAGE_DATE: 1996 08 26
SOURCE_IMAGE_ID: NAPP 11006 23
SOURCE_IMAGE_DATE: 1998 07 21
SOURCE_DEM_DATE: 1981 00 00
AGENCY: WESTERN MAPPING CENTER (WMC)
PRODUCER: ANALYTICAL SURVEYS INC.
PRODUCTION_SYSTEM: ORBIT OR_RECTIFY V.5.2
COMPRESSION: UNDEFINED
STANDARD_VERSION: 1996 12
METADATA_DATE: 2000 10 12
DATA_FILE_SIZE: 42525180
BYTE_COUNT: 5580
