FILENAME: O4511002.NWS.1004689.tif
QUADRANGLE_NAME: SEDAN
QUADRANT: NW
WEST_LONGITUDE: -110 52 30.00000
EAST_LONGITUDE: -110 48 45.00000
NORTH_LATITUDE: 46 0 0.00000
SOUTH_LATITUDE: 45 56 15.00000
PRODUCTION_DATE: 1999 5 12
RASTER_ORDER: LEFT_RIGHT/TOP_BOTTOM
BAND_ORGANIZATION: SINGLE FILE
BAND_CONTENT: BLACK&WHITE
BAND_CONTENT: UNDEFINED
BAND_CONTENT: UNDEFINED
BITS_PER_PIXEL: 8
SAMPLES_AND_LINES: 5516 7565
HORIZONTAL_DATUM: NAD83
HORIZONTAL_COORDINATE_SYSTEM: UTM
COORDINATE_ZONE: 12
HORIZONTAL_UNITS: METERS
HORIZONTAL_RESOLUTION: 1.00000
SECONDARY_HORIZONTAL_DATUM: NAD27
XY_ORIGIN: 509318.00000 5094366.00000
SECONDARY_XY_ORIGIN: 509378.20000 5094155.82600
NATION: US
STATE: MT
NW_QUAD_CORNER_XY: 509679.03900 5094055.08700
NE_QUAD_CORNER_XY: 514518.55800 5094064.58100
SE_QUAD_CORNERY_XY: 514534.89600 5087120.44200
SW_QUAD_CORNER_XY: 509689.93100 5087110.94700
SECONDARY_NW_QUAD_XY: 509679.33100 5093837.11600
SECONDARY_NE_QUAD_XY: 514518.99600 5093846.61000
SECONDARY_SE_QUAD_XY: 514535.33400 5086902.51300
SECONDARY_SW_QUAD_XY: 509690.22300 5086893.01900
RMSE_XY: 1.10000
IMAGE_SOURCE: BLACK AND WHITE FILM
SOURCE_IMAGE_ID: NAPP 11009 152
SOURCE_IMAGE_DATE: 1998 7 22
SOURCE_DEM_DATE: 1999 5 12
AGENCY: WESTERN MAPPING CENTER (WMC)
PRODUCER: WESTERN MAPPING CENTER (WMC)
PRODUCTION_SYSTEM: DV2.6.3 10/9OV2.4 5/95
COMPRESSION: UNDEFINED
STANDARD_VERSION: 1996 12
METADATA_DATE: 1999 5 24
DATA_FILE_SIZE: 41734056
BYTE_COUNT: 5516
