FILENAME: O4511164.NES.830058.tif
QUADRANGLE_NAME: BIG HORN PEAK
QUADRANT: NE
WEST_LONGITUDE: -111 3 45.00000
EAST_LONGITUDE: -111 0 0.00000
NORTH_LATITUDE: 45 7 30.00000
SOUTH_LATITUDE: 45 3 45.00000
PRODUCTION_DATE: 1997 11 12
RASTER_ORDER: LEFT_RIGHT/TOP_BOTTOM
BAND_ORGANIZATION: SINGLE FILE
BAND_CONTENT: BLACK&WHITE
BAND_CONTENT: UNDEFINED
BAND_CONTENT: UNDEFINED
BITS_PER_PIXEL: 8
SAMPLES_AND_LINES: 5584 7556
HORIZONTAL_DATUM: NAD83
HORIZONTAL_COORDINATE_SYSTEM: UTM
COORDINATE_ZONE: 12
HORIZONTAL_UNITS: METERS
HORIZONTAL_RESOLUTION: 1.00000
SECONDARY_HORIZONTAL_DATUM: NAD27
XY_ORIGIN: 494717.00000 4997139.00000
SECONDARY_XY_ORIGIN: 494778.15400 4996929.37800
NATION: US
NATION: "SCIENCE
STATE: MT
NW_QUAD_CORNER_XY: 495084.76600 4996838.36800
NE_QUAD_CORNER_XY: 500000.00000 4996836.46800
SE_QUAD_CORNERY_XY: 500000.00000 4989893.39600
SW_QUAD_CORNER_XY: 495079.40200 4989895.29600
SECONDARY_NW_QUAD_XY: 495084.62100 4996621.06800
SECONDARY_NE_QUAD_XY: 500000.00000 4996619.16800
SECONDARY_SE_QUAD_XY: 500000.00000 4989676.15000
SECONDARY_SW_QUAD_XY: 495079.25700 4989678.05000
RMSE_XY: 1.50000
IMAGE_SOURCE: BLACK AND WHITE FILM
SOURCE_IMAGE_ID: NAPP 7831 154
SOURCE_IMAGE_DATE: 1994 09 06
SOURCE_IMAGE_ID: NAPP 7817 080
SOURCE_IMAGE_DATE: 1994 06 27
SOURCE_IMAGE_ID: NAPP 7831 153
SOURCE_IMAGE_DATE: 1994 09 06
SOURCE_IMAGE_ID: NAPP 7831 155
SOURCE_IMAGE_DATE: 1994 09 06
SOURCE_IMAGE_ID: NAPP 7831 156
SOURCE_IMAGE_DATE: 1994 09 06
SOURCE_DEM_DATE: 1997 01 01
AGENCY: WESTERN MAPPING CENTER (WMC)
PRODUCER: UNDEFINED
PRODUCTION_SYSTEM: GIS/MAGIC
COMPRESSION: UNDEFINED
STANDARD_VERSION: 1996 12
METADATA_DATE: 1997 11 13
DATA_FILE_SIZE: 42198288
BYTE_COUNT: 5584
