FILENAME: O4511162.NES.830112.tif
QUADRANGLE_NAME: LINCOLN MOUNTAIN
QUADRANT: NE
WEST_LONGITUDE: -111 18 45.00000
EAST_LONGITUDE: -111 15 0.00000
NORTH_LATITUDE: 45 7 30.00000
SOUTH_LATITUDE: 45 3 45.00000
PRODUCTION_DATE: 1997 11 4
RASTER_ORDER: LEFT_RIGHT/TOP_BOTTOM
BAND_ORGANIZATION: SINGLE FILE
BAND_CONTENT: BLACK&WHITE
BAND_CONTENT: UNDEFINED
BAND_CONTENT: UNDEFINED
BITS_PER_PIXEL: 8
SAMPLES_AND_LINES: 5608 7571
HORIZONTAL_DATUM: NAD83
HORIZONTAL_COORDINATE_SYSTEM: UTM
COORDINATE_ZONE: 12
HORIZONTAL_UNITS: METERS
HORIZONTAL_RESOLUTION: 1.00000
SECONDARY_HORIZONTAL_DATUM: NAD27
XY_ORIGIN: 475033.00000 4997184.00000
SECONDARY_XY_ORIGIN: 475094.34100 4996974.43400
NATION: US
NATION: "SCIENCE
STATE: MT
NW_QUAD_CORNER_XY: 475423.83300 4996883.96300
NE_QUAD_CORNER_XY: 480339.06600 4996866.86500
SE_QUAD_CORNERY_XY: 480317.60900 4989923.79200
SW_QUAD_CORNER_XY: 475397.01100 4989940.89100
SECONDARY_NW_QUAD_XY: 475423.10500 4996666.66400
SECONDARY_NE_QUAD_XY: 480338.48400 4996649.56500
SECONDARY_SE_QUAD_XY: 480317.02700 4989706.54700
SECONDARY_SW_QUAD_XY: 475396.28400 4989723.64600
RMSE_XY: 1.30000
IMAGE_SOURCE: BLACK AND WHITE FILM
SOURCE_IMAGE_ID: NAPP 8375 211
SOURCE_IMAGE_DATE: 1995 08 12
SOURCE_IMAGE_ID: NAPP 8375 210
SOURCE_IMAGE_DATE: 1995 08 12
SOURCE_DEM_DATE: 1997 01 01
AGENCY: WESTERN MAPPING CENTER (WMC)
PRODUCER: UNDEFINED
PRODUCTION_SYSTEM: GIS/MAGIC
COMPRESSION: UNDEFINED
STANDARD_VERSION: 1996 12
METADATA_DATE: 1997 11 13
DATA_FILE_SIZE: 42463776
BYTE_COUNT: 5608
