FILENAME: O4511160.SES.979546.tif
QUADRANGLE_NAME: NO MAN PEAK
QUADRANT: SE
WEST_LONGITUDE: -111 33 45.00000
EAST_LONGITUDE: -111 30 0.00000
NORTH_LATITUDE: 45 3 45.00000
SOUTH_LATITUDE: 45 0 0.00000
PRODUCTION_DATE: 1999 3 9
RASTER_ORDER: LEFT_RIGHT/TOP_BOTTOM
BAND_ORGANIZATION: SINGLE FILE
BAND_CONTENT: BLACK&WHITE
BAND_CONTENT: UNDEFINED
BAND_CONTENT: UNDEFINED
BITS_PER_PIXEL: 8
SAMPLES_AND_LINES: 5635 7586
HORIZONTAL_DATUM: NAD83
HORIZONTAL_COORDINATE_SYSTEM: UTM
COORDINATE_ZONE: 12
HORIZONTAL_UNITS: METERS
HORIZONTAL_RESOLUTION: 1.00000
SECONDARY_HORIZONTAL_DATUM: NAD27
XY_ORIGIN: 455302.00000 4990348.00000
SECONDARY_XY_ORIGIN: 455363.64800 4990138.41400
NATION: US
NATION: "SCIENCE
STATE: MT
NW_QUAD_CORNER_XY: 455714.62100 4990047.28100
NE_QUAD_CORNER_XY: 460635.21800 4990014.98300
SE_QUAD_CORNERY_XY: 460592.35100 4983071.98700
SW_QUAD_CORNER_XY: 455666.39500 4983104.28400
SECONDARY_NW_QUAD_XY: 455713.31200 4989830.03900
SECONDARY_NE_QUAD_XY: 460634.05500 4989797.74100
SECONDARY_SE_QUAD_XY: 460591.18800 4982854.80000
SECONDARY_SW_QUAD_XY: 455665.08600 4982887.09800
RMSE_XY: 1.30000
IMAGE_SOURCE: BLACK AND WHITE FILM
SOURCE_IMAGE_ID: NAPP 8374 111
SOURCE_IMAGE_DATE: 1995 08 12
SOURCE_IMAGE_ID: NAPP 8374 112
SOURCE_IMAGE_DATE: 1995 08 12
SOURCE_IMAGE_ID: NAPP 8374 110
SOURCE_IMAGE_DATE: 1995 08 12
SOURCE_IMAGE_ID: NAPP 8374 081
SOURCE_IMAGE_DATE: 1995 08 12
SOURCE_DEM_DATE: 1992 00 00
AGENCY: WESTERN MAPPING CENTER (WMC)
PRODUCER: UNDEFINED
PRODUCTION_SYSTEM: GIS/MAGIC
COMPRESSION: UNDEFINED
STANDARD_VERSION: 1996 12
METADATA_DATE: 1999 03 26
DATA_FILE_SIZE: 42752745
BYTE_COUNT: 5635
