FILENAME: O4511159.NWS.971450.tif
QUADRANGLE_NAME: BUCKS NEST
QUADRANT: NW
WEST_LONGITUDE: -111 45 0.00000
EAST_LONGITUDE: -111 41 15.00000
NORTH_LATITUDE: 45 7 30.00000
SOUTH_LATITUDE: 45 3 45.00000
PRODUCTION_DATE: 1999 2 25
RASTER_ORDER: LEFT_RIGHT/TOP_BOTTOM
BAND_ORGANIZATION: SINGLE FILE
BAND_CONTENT: BLACK&WHITE
BAND_CONTENT: UNDEFINED
BAND_CONTENT: UNDEFINED
BITS_PER_PIXEL: 8
SAMPLES_AND_LINES: 5646 7598
HORIZONTAL_DATUM: NAD83
HORIZONTAL_COORDINATE_SYSTEM: UTM
COORDINATE_ZONE: 12
HORIZONTAL_UNITS: METERS
HORIZONTAL_RESOLUTION: 1.00000
SECONDARY_HORIZONTAL_DATUM: NAD27
XY_ORIGIN: 440588.00000 4997411.00000
SECONDARY_XY_ORIGIN: 440649.79000 4997201.29200
NATION: US
NATION: "SCIENCE
STATE: MT
NW_QUAD_CORNER_XY: 441017.20200 4997110.04300
NE_QUAD_CORNER_XY: 445932.43400 4997066.34600
SE_QUAD_CORNERY_XY: 445873.42600 4990123.27500
SW_QUAD_CORNER_XY: 440952.82800 4990166.97200
SECONDARY_NW_QUAD_XY: 441015.45600 4996892.75100
SECONDARY_NE_QUAD_XY: 445930.83400 4996849.05300
SECONDARY_SE_QUAD_XY: 445871.82600 4989906.03600
SECONDARY_SW_QUAD_XY: 440951.08300 4989949.73400
RMSE_XY: 1.00000
IMAGE_SOURCE: BLACK AND WHITE FILM
SOURCE_IMAGE_ID: NAPP 8374 187
SOURCE_IMAGE_DATE: 1995 08 12
SOURCE_DEM_DATE: 1997 01 01
AGENCY: WESTERN MAPPING CENTER (WMC)
PRODUCER: UNDEFINED
PRODUCTION_SYSTEM: GIS/MAGIC
COMPRESSION: UNDEFINED
STANDARD_VERSION: 1996 12
METADATA_DATE: 1999 03 01
DATA_FILE_SIZE: 42903954
BYTE_COUNT: 5646
