FILENAME: O4511159.SWS.971452.tif
QUADRANGLE_NAME: BUCKS NEST
QUADRANT: SW
WEST_LONGITUDE: -111 45 0.00000
EAST_LONGITUDE: -111 41 15.00000
NORTH_LATITUDE: 45 3 45.00000
SOUTH_LATITUDE: 45 0 0.00000
PRODUCTION_DATE: 1999 2 26
RASTER_ORDER: LEFT_RIGHT/TOP_BOTTOM
BAND_ORGANIZATION: SINGLE FILE
BAND_CONTENT: BLACK&WHITE
BAND_CONTENT: UNDEFINED
BAND_CONTENT: UNDEFINED
BITS_PER_PIXEL: 8
SAMPLES_AND_LINES: 5652 7597
HORIZONTAL_DATUM: NAD83
HORIZONTAL_COORDINATE_SYSTEM: UTM
COORDINATE_ZONE: 12
HORIZONTAL_UNITS: METERS
HORIZONTAL_RESOLUTION: 1.00000
SECONDARY_HORIZONTAL_DATUM: NAD27
XY_ORIGIN: 440523.00000 4990467.00000
SECONDARY_XY_ORIGIN: 440584.82000 4990257.40600
NATION: US
NATION: "SCIENCE
STATE: MT
NW_QUAD_CORNER_XY: 440952.82800 4990166.97200
NE_QUAD_CORNER_XY: 445873.42600 4990123.27500
SE_QUAD_CORNERY_XY: 445814.48200 4983180.27900
SW_QUAD_CORNER_XY: 440888.52500 4983223.97600
SECONDARY_NW_QUAD_XY: 440951.08300 4989949.73400
SECONDARY_NE_QUAD_XY: 445871.82600 4989906.03600
SECONDARY_SE_QUAD_XY: 445812.88200 4982963.09500
SECONDARY_SW_QUAD_XY: 440886.78000 4983006.79300
RMSE_XY: 1.10000
IMAGE_SOURCE: BLACK AND WHITE FILM
SOURCE_IMAGE_ID: NAPP 8374 189
SOURCE_IMAGE_DATE: 1995 08 12
SOURCE_DEM_DATE: 1997 01 01
AGENCY: WESTERN MAPPING CENTER (WMC)
PRODUCER: UNDEFINED
PRODUCTION_SYSTEM: GIS/MAGIC
COMPRESSION: UNDEFINED
STANDARD_VERSION: 1996 12
METADATA_DATE: 1999 03 01
DATA_FILE_SIZE: 42943896
BYTE_COUNT: 5652
