FILENAME: O4511157.SES.789333.tif
QUADRANGLE_NAME: WARM SPRINGS CREEK
QUADRANT: SE
WEST_LONGITUDE: -111 56 15.00000
EAST_LONGITUDE: -111 52 30.00000
NORTH_LATITUDE: 45 3 45.00000
SOUTH_LATITUDE: 45 0 0.00000
PRODUCTION_DATE: 1997 11 24
RASTER_ORDER: LEFT_RIGHT/TOP_BOTTOM
BAND_ORGANIZATION: SINGLE FILE
BAND_CONTENT: BLACK&WHITE
BAND_CONTENT: UNDEFINED
BAND_CONTENT: UNDEFINED
BITS_PER_PIXEL: 8
SAMPLES_AND_LINES: 5664 7606
HORIZONTAL_DATUM: NAD83
HORIZONTAL_COORDINATE_SYSTEM: UTM
COORDINATE_ZONE: 12
HORIZONTAL_UNITS: METERS
HORIZONTAL_RESOLUTION: 1.00000
SECONDARY_HORIZONTAL_DATUM: NAD27
XY_ORIGIN: 425747.74900 4990620.36600
SECONDARY_XY_ORIGIN: 425809.07500 4990411.05000
NATION: US
STATE: MT
NW_QUAD_CORNER_XY: 426191.03600 4990320.86600
NE_QUAD_CORNER_XY: 431111.63300 4990265.76800
SE_QUAD_CORNERY_XY: 431036.61100 4983322.77200
SW_QUAD_CORNER_XY: 426110.65400 4983377.87000
SECONDARY_NW_QUAD_XY: 426188.85400 4990103.63300
SECONDARY_NE_QUAD_XY: 431109.59700 4990048.53300
SECONDARY_SE_QUAD_XY: 431034.57600 4983105.59200
SECONDARY_SW_QUAD_XY: 426108.47300 4983160.69200
RMSE_XY: 1.60000
IMAGE_SOURCE: BLACK AND WHITE FILM
SOURCE_IMAGE_ID: NAPP 8376 193
SOURCE_IMAGE_DATE: 1995 8 15
SOURCE_DEM_DATE: 1997 11 24
AGENCY: WESTERN MAPPING CENTER (WMC)
PRODUCER: NIES MAPPING GROUP
PRODUCTION_SYSTEM: INTERGRAPH- ISPM,ISIR
COMPRESSION: UNDEFINED
STANDARD_VERSION: 1996 12
METADATA_DATE: 1998 2 27
DATA_FILE_SIZE: 43086048
BYTE_COUNT: 5664
