FILENAME: O4511156.NES.830054.tif
QUADRANGLE_NAME: RAMSHORN PEAK
QUADRANT: NE
WEST_LONGITUDE: -111 3 45.00000
EAST_LONGITUDE: -111 0 0.00000
NORTH_LATITUDE: 45 15 0.00000
SOUTH_LATITUDE: 45 11 15.00000
PRODUCTION_DATE: 1997 11 4
RASTER_ORDER: LEFT_RIGHT/TOP_BOTTOM
BAND_ORGANIZATION: SINGLE FILE
BAND_CONTENT: BLACK&WHITE
BAND_CONTENT: UNDEFINED
BAND_CONTENT: UNDEFINED
BITS_PER_PIXEL: 8
SAMPLES_AND_LINES: 5574 7555
HORIZONTAL_DATUM: NAD83
HORIZONTAL_COORDINATE_SYSTEM: UTM
COORDINATE_ZONE: 12
HORIZONTAL_UNITS: METERS
HORIZONTAL_RESOLUTION: 1.00000
SECONDARY_HORIZONTAL_DATUM: NAD27
XY_ORIGIN: 494727.00000 5011025.00000
SECONDARY_XY_ORIGIN: 494788.07900 5010815.19700
NATION: US
NATION: "SCIENCE
STATE: MT
NW_QUAD_CORNER_XY: 495095.51200 5010724.74100
NE_QUAD_CORNER_XY: 500000.00000 5010722.84200
SE_QUAD_CORNERY_XY: 500000.00000 5003779.61700
SW_QUAD_CORNER_XY: 495090.13700 5003781.51600
SECONDARY_NW_QUAD_XY: 495095.36700 5010507.33500
SECONDARY_NE_QUAD_XY: 500000.00000 5010505.43500
SECONDARY_SE_QUAD_XY: 500000.00000 5003562.26300
SECONDARY_SW_QUAD_XY: 495089.99100 5003564.16300
RMSE_XY: 1.10000
IMAGE_SOURCE: BLACK AND WHITE FILM
SOURCE_IMAGE_ID: NAPP 8375 178
SOURCE_IMAGE_DATE: 1995 08 12
SOURCE_IMAGE_ID: NAPP 8375 177
SOURCE_IMAGE_DATE: 1995 08 12
SOURCE_DEM_DATE: 1997 01 01
AGENCY: WESTERN MAPPING CENTER (WMC)
PRODUCER: UNDEFINED
PRODUCTION_SYSTEM: GIS/MAGIC
COMPRESSION: UNDEFINED
STANDARD_VERSION: 1996 12
METADATA_DATE: 1997 11 13
DATA_FILE_SIZE: 42117144
BYTE_COUNT: 5574
