FILENAME: O4511155.SWS.830069.tif
QUADRANGLE_NAME: LONE INDIAN PEAK
QUADRANT: SW
WEST_LONGITUDE: -111 15 0.00000
EAST_LONGITUDE: -111 11 15.00000
NORTH_LATITUDE: 45 11 15.00000
SOUTH_LATITUDE: 45 7 30.00000
PRODUCTION_DATE: 1997 11 12
RASTER_ORDER: LEFT_RIGHT/TOP_BOTTOM
BAND_ORGANIZATION: SINGLE FILE
BAND_CONTENT: BLACK&WHITE
BAND_CONTENT: UNDEFINED
BAND_CONTENT: UNDEFINED
BITS_PER_PIXEL: 8
SAMPLES_AND_LINES: 5596 7568
HORIZONTAL_DATUM: NAD83
HORIZONTAL_COORDINATE_SYSTEM: UTM
COORDINATE_ZONE: 12
HORIZONTAL_UNITS: METERS
HORIZONTAL_RESOLUTION: 1.00000
SECONDARY_HORIZONTAL_DATUM: NAD27
XY_ORIGIN: 479976.00000 5004111.00000
SECONDARY_XY_ORIGIN: 480037.22500 5003901.39600
NATION: US
NATION: "SCIENCE
STATE: MT
NW_QUAD_CORNER_XY: 480360.54600 5003810.01300
NE_QUAD_CORNER_XY: 485270.41000 5003796.71500
SE_QUAD_CORNERY_XY: 485254.29900 4996853.56600
SW_QUAD_CORNER_XY: 480339.06600 4996866.86500
SECONDARY_NW_QUAD_XY: 480359.96400 5003592.66000
SECONDARY_NE_QUAD_XY: 485269.97300 5003579.36100
SECONDARY_SE_QUAD_XY: 485253.86300 4996636.26600
SECONDARY_SW_QUAD_XY: 480338.48400 4996649.56500
RMSE_XY: 1.00000
IMAGE_SOURCE: BLACK AND WHITE FILM
SOURCE_IMAGE_ID: NAPP 8375 112
SOURCE_IMAGE_DATE: 1995 08 12
SOURCE_IMAGE_ID: NAPP 8375 113
SOURCE_IMAGE_DATE: 1995 08 12
SOURCE_DEM_DATE: 1997 01 01
AGENCY: WESTERN MAPPING CENTER (WMC)
PRODUCER: UNDEFINED
PRODUCTION_SYSTEM: GIS/MAGIC
COMPRESSION: UNDEFINED
STANDARD_VERSION: 1996 12
METADATA_DATE: 1997 11 13
DATA_FILE_SIZE: 42356124
BYTE_COUNT: 5596
