FILENAME: O4511153.NWS.980493.tif
QUADRANGLE_NAME: SPHINX MOUNTAIN
QUADRANT: NW
WEST_LONGITUDE: -111 30 0.00000
EAST_LONGITUDE: -111 26 15.00000
NORTH_LATITUDE: 45 15 0.00000
SOUTH_LATITUDE: 45 11 15.00000
PRODUCTION_DATE: 1999 3 10
RASTER_ORDER: LEFT_RIGHT/TOP_BOTTOM
BAND_ORGANIZATION: SINGLE FILE
BAND_CONTENT: BLACK&WHITE
BAND_CONTENT: UNDEFINED
BAND_CONTENT: UNDEFINED
BITS_PER_PIXEL: 8
SAMPLES_AND_LINES: 5613 7582
HORIZONTAL_DATUM: NAD83
HORIZONTAL_COORDINATE_SYSTEM: UTM
COORDINATE_ZONE: 12
HORIZONTAL_UNITS: METERS
HORIZONTAL_RESOLUTION: 1.00000
SECONDARY_HORIZONTAL_DATUM: NAD27
XY_ORIGIN: 460357.00000 5011145.00000
SECONDARY_XY_ORIGIN: 460418.48200 5010935.16200
NATION: US
NATION: "SCIENCE
STATE: MT
NW_QUAD_CORNER_XY: 460764.10300 5010844.42600
NE_QUAD_CORNER_XY: 465668.59000 5010815.92900
SE_QUAD_CORNERY_XY: 465630.95700 5003872.70600
SW_QUAD_CORNER_XY: 460721.09500 5003901.20300
SECONDARY_NW_QUAD_XY: 460762.93900 5010627.02300
SECONDARY_NE_QUAD_XY: 465667.57100 5010598.52600
SECONDARY_SE_QUAD_XY: 465629.93900 5003655.35500
SECONDARY_SW_QUAD_XY: 460719.93100 5003683.85300
RMSE_XY: 1.70000
IMAGE_SOURCE: BLACK AND WHITE FILM
SOURCE_IMAGE_ID: NAPP 8374 086
SOURCE_IMAGE_DATE: 1995 08 12
SOURCE_IMAGE_ID: NAPP 8374 104
SOURCE_IMAGE_DATE: 1995 08 12
SOURCE_IMAGE_ID: NAPP 8374 085
SOURCE_IMAGE_DATE: 1995 08 12
SOURCE_IMAGE_ID: NAPP 8374 087
SOURCE_IMAGE_DATE: 1995 08 12
SOURCE_DEM_DATE: 1997 01 01
AGENCY: WESTERN MAPPING CENTER (WMC)
PRODUCER: UNDEFINED
PRODUCTION_SYSTEM: GIS/MAGIC
COMPRESSION: UNDEFINED
STANDARD_VERSION: 1996 12
METADATA_DATE: 1999 03 26
DATA_FILE_SIZE: 42563379
BYTE_COUNT: 5613
