FILENAME: O4511152.NES.979654.tif
QUADRANGLE_NAME: LAKE CAMERON
QUADRANT: NE
WEST_LONGITUDE: -111 33 45.00000
EAST_LONGITUDE: -111 30 0.00000
NORTH_LATITUDE: 45 15 0.00000
SOUTH_LATITUDE: 45 11 15.00000
PRODUCTION_DATE: 1999 3 10
RASTER_ORDER: LEFT_RIGHT/TOP_BOTTOM
BAND_ORGANIZATION: SINGLE FILE
BAND_CONTENT: BLACK&WHITE
BAND_CONTENT: UNDEFINED
BAND_CONTENT: UNDEFINED
BITS_PER_PIXEL: 8
SAMPLES_AND_LINES: 5619 7586
HORIZONTAL_DATUM: NAD83
HORIZONTAL_COORDINATE_SYSTEM: UTM
COORDINATE_ZONE: 12
HORIZONTAL_UNITS: METERS
HORIZONTAL_RESOLUTION: 1.00000
SECONDARY_HORIZONTAL_DATUM: NAD27
XY_ORIGIN: 455447.00000 5011177.00000
SECONDARY_XY_ORIGIN: 455508.54300 5010967.14100
NATION: US
NATION: "SCIENCE
STATE: MT
NW_QUAD_CORNER_XY: 455859.61700 5010876.72200
NE_QUAD_CORNER_XY: 460764.10300 5010844.42600
SE_QUAD_CORNERY_XY: 460721.09500 5003901.20300
SW_QUAD_CORNER_XY: 455811.23200 5003933.50000
SECONDARY_NW_QUAD_XY: 455858.30700 5010659.32100
SECONDARY_NE_QUAD_XY: 460762.93900 5010627.02300
SECONDARY_SE_QUAD_XY: 460719.93100 5003683.85300
SECONDARY_SW_QUAD_XY: 455809.92300 5003716.15000
RMSE_XY: 1.70000
IMAGE_SOURCE: BLACK AND WHITE FILM
SOURCE_IMAGE_ID: NAPP 8374 105
SOURCE_IMAGE_DATE: 1995 08 12
SOURCE_IMAGE_ID: NAPP 8376 108
SOURCE_IMAGE_DATE: 1995 08 15
SOURCE_IMAGE_ID: NAPP 8374 106
SOURCE_IMAGE_DATE: 1995 08 12
SOURCE_IMAGE_ID: NAPP 8374 104
SOURCE_IMAGE_DATE: 1995 08 12
SOURCE_IMAGE_ID: NAPP 8374 087
SOURCE_IMAGE_DATE: 1995 08 12
SOURCE_DEM_DATE: 1992 00 00
AGENCY: WESTERN MAPPING CENTER (WMC)
PRODUCER: UNDEFINED
PRODUCTION_SYSTEM: GIS/MAGIC
COMPRESSION: UNDEFINED
STANDARD_VERSION: 1996 12
METADATA_DATE: 1999 03 26
DATA_FILE_SIZE: 42631353
BYTE_COUNT: 5619
