FILENAME: O4511152.SES.979668.tif
QUADRANGLE_NAME: LAKE CAMERON
QUADRANT: SE
WEST_LONGITUDE: -111 33 45.00000
EAST_LONGITUDE: -111 30 0.00000
NORTH_LATITUDE: 45 11 15.00000
SOUTH_LATITUDE: 45 7 30.00000
PRODUCTION_DATE: 1999 3 10
RASTER_ORDER: LEFT_RIGHT/TOP_BOTTOM
BAND_ORGANIZATION: SINGLE FILE
BAND_CONTENT: BLACK&WHITE
BAND_CONTENT: UNDEFINED
BAND_CONTENT: UNDEFINED
BITS_PER_PIXEL: 8
SAMPLES_AND_LINES: 5625 7586
HORIZONTAL_DATUM: NAD83
HORIZONTAL_COORDINATE_SYSTEM: UTM
COORDINATE_ZONE: 12
HORIZONTAL_UNITS: METERS
HORIZONTAL_RESOLUTION: 1.00000
SECONDARY_HORIZONTAL_DATUM: NAD27
XY_ORIGIN: 455398.00000 5004234.00000
SECONDARY_XY_ORIGIN: 455459.57800 5004024.23100
NATION: US
NATION: "SCIENCE
STATE: MT
NW_QUAD_CORNER_XY: 455811.23200 5003933.50000
NE_QUAD_CORNER_XY: 460721.09500 5003901.20300
SE_QUAD_CORNERY_XY: 460678.13300 4996958.05500
SW_QUAD_CORNER_XY: 455762.90000 4996990.35200
SECONDARY_NW_QUAD_XY: 455809.92300 5003716.15000
SECONDARY_NE_QUAD_XY: 460719.93100 5003683.85300
SECONDARY_SE_QUAD_XY: 460676.96900 4996740.75800
SECONDARY_SW_QUAD_XY: 455761.59100 4996773.05600
RMSE_XY: 2.40000
IMAGE_SOURCE: BLACK AND WHITE FILM
SOURCE_IMAGE_ID: NAPP 8374 107
SOURCE_IMAGE_DATE: 1995 08 12
SOURCE_IMAGE_ID: NAPP 8374 108
SOURCE_IMAGE_DATE: 1995 08 12
SOURCE_IMAGE_ID: NAPP 8374 106
SOURCE_IMAGE_DATE: 1995 08 12
SOURCE_IMAGE_ID: NAPP 8374 085
SOURCE_IMAGE_DATE: 1995 08 12
SOURCE_DEM_DATE: 1992 00 00
AGENCY: WESTERN MAPPING CENTER (WMC)
PRODUCER: UNDEFINED
PRODUCTION_SYSTEM: GIS/MAGIC
COMPRESSION: UNDEFINED
STANDARD_VERSION: 1996 12
METADATA_DATE: 1999 03 26
DATA_FILE_SIZE: 42676875
BYTE_COUNT: 5625
