FILENAME: O4511151.NES.971445.tif
QUADRANGLE_NAME: CAMERON
QUADRANT: NE
WEST_LONGITUDE: -111 41 15.00000
EAST_LONGITUDE: -111 37 30.00000
NORTH_LATITUDE: 45 15 0.00000
SOUTH_LATITUDE: 45 11 15.00000
PRODUCTION_DATE: 1999 2 26
RASTER_ORDER: LEFT_RIGHT/TOP_BOTTOM
BAND_ORGANIZATION: SINGLE FILE
BAND_CONTENT: BLACK&WHITE
BAND_CONTENT: UNDEFINED
BAND_CONTENT: UNDEFINED
BITS_PER_PIXEL: 8
SAMPLES_AND_LINES: 5630 7593
HORIZONTAL_DATUM: NAD83
HORIZONTAL_COORDINATE_SYSTEM: UTM
COORDINATE_ZONE: 12
HORIZONTAL_UNITS: METERS
HORIZONTAL_RESOLUTION: 1.00000
SECONDARY_HORIZONTAL_DATUM: NAD27
XY_ORIGIN: 445627.00000 5011253.00000
SECONDARY_XY_ORIGIN: 445688.66700 5011043.09300
NATION: US
NATION: "SCIENCE
STATE: MT
NW_QUAD_CORNER_XY: 446050.64600 5010952.71500
NE_QUAD_CORNER_XY: 450955.13200 5010912.81900
SE_QUAD_CORNERY_XY: 450901.37000 5003969.59600
SW_QUAD_CORNER_XY: 445991.50800 5004009.49300
SECONDARY_NW_QUAD_XY: 446049.04500 5010735.31500
SECONDARY_NE_QUAD_XY: 450953.67600 5010695.41800
SECONDARY_SE_QUAD_XY: 450899.91500 5003752.24800
SECONDARY_SW_QUAD_XY: 445989.90700 5003792.14600
RMSE_XY: 1.70000
IMAGE_SOURCE: BLACK AND WHITE FILM
SOURCE_IMAGE_ID: NAPP 8371 155
SOURCE_IMAGE_DATE: 1995 06 30
SOURCE_DEM_DATE: 1988 00 00
AGENCY: WESTERN MAPPING CENTER (WMC)
PRODUCER: UNDEFINED
PRODUCTION_SYSTEM: GIS/MAGIC
COMPRESSION: UNDEFINED
STANDARD_VERSION: 1996 12
METADATA_DATE: 1999 03 01
DATA_FILE_SIZE: 42754220
BYTE_COUNT: 5630
